BEGIN:VCALENDAR
VERSION:2.0
PRODID:-//NJ Society for Information Management - ECPv6.15.18//NONSGML v1.0//EN
CALSCALE:GREGORIAN
METHOD:PUBLISH
X-ORIGINAL-URL:https://njsim.org
X-WR-CALDESC:Events for NJ Society for Information Management
REFRESH-INTERVAL;VALUE=DURATION:PT1H
X-Robots-Tag:noindex
X-PUBLISHED-TTL:PT1H
BEGIN:VTIMEZONE
TZID:America/New_York
BEGIN:DAYLIGHT
TZOFFSETFROM:-0500
TZOFFSETTO:-0400
TZNAME:EDT
DTSTART:20250309T070000
END:DAYLIGHT
BEGIN:STANDARD
TZOFFSETFROM:-0400
TZOFFSETTO:-0500
TZNAME:EST
DTSTART:20251102T060000
END:STANDARD
BEGIN:DAYLIGHT
TZOFFSETFROM:-0500
TZOFFSETTO:-0400
TZNAME:EDT
DTSTART:20260308T070000
END:DAYLIGHT
BEGIN:STANDARD
TZOFFSETFROM:-0400
TZOFFSETTO:-0500
TZNAME:EST
DTSTART:20261101T060000
END:STANDARD
BEGIN:DAYLIGHT
TZOFFSETFROM:-0500
TZOFFSETTO:-0400
TZNAME:EDT
DTSTART:20270314T070000
END:DAYLIGHT
BEGIN:STANDARD
TZOFFSETFROM:-0400
TZOFFSETTO:-0500
TZNAME:EST
DTSTART:20271107T060000
END:STANDARD
END:VTIMEZONE
BEGIN:VEVENT
DTSTART;TZID=America/New_York:20260304T120000
DTEND;TZID=America/New_York:20260304T130000
DTSTAMP:20260424T145210
CREATED:20260205T025257Z
LAST-MODIFIED:20260209T194123Z
UID:22996-1772625600-1772629200@njsim.org
SUMMARY:SLI Leadership Series - Saby Waraich
DESCRIPTION:[vc_row type=”in_container” full_screen_row_position=”middle” column_margin=”default” column_direction=”default” column_direction_tablet=”default” column_direction_phone=”default” scene_position=”center” text_color=”dark” text_align=”left” row_border_radius=”none” row_border_radius_applies=”bg” row_position_desktop=”default” row_position_tablet=”inherit” row_position_phone=”inherit” overflow=”visible” overlay_strength=”0.3″ gradient_direction=”left_to_right” shape_divider_position=”bottom” bg_image_animation=”none”][vc_column column_padding=”no-extra-padding” column_padding_tablet=”inherit” column_padding_phone=”inherit” column_padding_position=”all” flex_gap_desktop=”10px” column_element_direction_desktop=”default” column_element_spacing=”default” desktop_text_alignment=”default” tablet_text_alignment=”default” phone_text_alignment=”default” background_color_opacity=”1″ background_hover_color_opacity=”1″ column_backdrop_filter=”none” column_shadow=”none” column_border_radius=”none” column_link_target=”_self” column_position=”default” gradient_direction=”left_to_right” overlay_strength=”0.3″ width=”1/1″ tablet_width_inherit=”default” animation_type=”default” bg_image_animation=”none” border_type=”simple” column_border_width=”none” column_border_style=”solid”][image_with_animation image_url=”23005″ image_size=”full” max_width=”100%” max_width_mobile=”default” animation_type=”entrance” animation=”None” animation_movement_type=”transform_y” hover_animation=”none” alignment=”” border_radius=”none” box_shadow=”none” image_loading=”default”][vc_column_text css=”” text_direction=”default”]\nOur March Guest is Saby Waraich\, Keynote speaker\, CIO and CISO\n\nSaby Waraich is a keynote speaker\, CIO\, and CISO who helps leaders turn complexity into clarity—and inspiration into action. Based in the Portland\, Oregon area\, Saby currently serves as Chief Information Officer and Chief Information Security Officer at Clackamas Community College\, where he leads enterprise technology strategy\, cybersecurity\, governance\, stakeholder engagement\, and team development in support of mission and student success. \nKnown for high-energy\, highly practical sessions\, Saby blends real-world executive leadership with proven frameworks audiences can apply immediately. His work spans digital transformation\, leadership\, and cyber resilience\, and he’s delivered 250+ events worldwide—from interactive workshops to large-scale keynotes. Saby is also the author of SCARE to CARES: Leading Digital Transformations Without Chaos and is recognized for thought leadership in IT leadership\, business strategy\, and project management. \nWithin the Society for Information Management (SIM)\, Saby is an active community builder—serving as President of SIM Portland and contributing nationally in marketing and sponsorship leadership. Whether he’s guiding teams through high-stakes change\, helping executives build trust and momentum\, or making a room come alive with humor and participation\, Saby’s goal is consistent: equip leaders to lead calmly\, communicate clearly\, and deliver measurable results when the work gets messy. \n\nLearn More & Register: https://members.simnet.org/event/SLIMarch2026[/vc_column_text][/vc_column][/vc_row][vc_row type=”in_container” full_screen_row_position=”middle” column_margin=”default” column_direction=”default” column_direction_tablet=”default” column_direction_phone=”default” scene_position=”center” text_color=”dark” text_align=”left” row_border_radius=”none” row_border_radius_applies=”bg” row_position_desktop=”default” row_position_tablet=”inherit” row_position_phone=”inherit” overflow=”visible” overlay_strength=”0.3″ gradient_direction=”left_to_right” shape_divider_position=”bottom” bg_image_animation=”none”][vc_column column_padding=”no-extra-padding” column_padding_tablet=”inherit” column_padding_phone=”inherit” column_padding_position=”all” flex_gap_desktop=”10px” column_element_direction_desktop=”default” column_element_spacing=”default” desktop_text_alignment=”default” tablet_text_alignment=”default” phone_text_alignment=”default” background_color_opacity=”1″ background_hover_color_opacity=”1″ column_backdrop_filter=”none” column_shadow=”none” column_border_radius=”none” column_link_target=”_self” column_position=”default” gradient_direction=”left_to_right” overlay_strength=”0.3″ width=”1/1″ tablet_width_inherit=”default” animation_type=”default” bg_image_animation=”none” border_type=”simple” column_border_width=”none” column_border_style=”solid”][/vc_column][/vc_row]
URL:https://njsim.org/event/sli-leadership-series-saby-waraich/
LOCATION:Webinar
CATEGORIES:Member Event,Webinar
ATTACH;FMTTYPE=image/png:https://njsim.org/wp-content/uploads/2026/02/SLI_-Guest_Speaker_March_202-1-scaled.png
END:VEVENT
END:VCALENDAR