BEGIN:VCALENDAR
VERSION:2.0
PRODID:-//NJ Society for Information Management - ECPv6.15.18//NONSGML v1.0//EN
CALSCALE:GREGORIAN
METHOD:PUBLISH
X-WR-CALNAME:NJ Society for Information Management
X-ORIGINAL-URL:https://njsim.org
X-WR-CALDESC:Events for NJ Society for Information Management
REFRESH-INTERVAL;VALUE=DURATION:PT1H
X-Robots-Tag:noindex
X-PUBLISHED-TTL:PT1H
BEGIN:VTIMEZONE
TZID:America/New_York
BEGIN:DAYLIGHT
TZOFFSETFROM:-0500
TZOFFSETTO:-0400
TZNAME:EDT
DTSTART:20240310T070000
END:DAYLIGHT
BEGIN:STANDARD
TZOFFSETFROM:-0400
TZOFFSETTO:-0500
TZNAME:EST
DTSTART:20241103T060000
END:STANDARD
BEGIN:DAYLIGHT
TZOFFSETFROM:-0500
TZOFFSETTO:-0400
TZNAME:EDT
DTSTART:20250309T070000
END:DAYLIGHT
BEGIN:STANDARD
TZOFFSETFROM:-0400
TZOFFSETTO:-0500
TZNAME:EST
DTSTART:20251102T060000
END:STANDARD
BEGIN:DAYLIGHT
TZOFFSETFROM:-0500
TZOFFSETTO:-0400
TZNAME:EDT
DTSTART:20260308T070000
END:DAYLIGHT
BEGIN:STANDARD
TZOFFSETFROM:-0400
TZOFFSETTO:-0500
TZNAME:EST
DTSTART:20261101T060000
END:STANDARD
END:VTIMEZONE
BEGIN:VEVENT
DTSTART;VALUE=DATE:20250707
DTEND;VALUE=DATE:20250708
DTSTAMP:20260425T065635
CREATED:20250804T151856Z
LAST-MODIFIED:20250904T225936Z
UID:19404-1751846400-1751932799@njsim.org
SUMMARY:Members In Transition (M.I.T.) In-Person Meeting - 2025-07-07
DESCRIPTION:[vc_row type=”in_container” full_screen_row_position=”middle” column_margin=”default” column_direction=”default” column_direction_tablet=”default” column_direction_phone=”default” scene_position=”center” text_color=”dark” text_align=”left” row_border_radius=”none” row_border_radius_applies=”bg” overlay_strength=”0.3″ gradient_direction=”left_to_right” shape_divider_position=”bottom” bg_image_animation=”none”][vc_column column_padding=”no-extra-padding” column_padding_tablet=”inherit” column_padding_phone=”inherit” column_padding_position=”all” column_element_spacing=”default” background_color_opacity=”1″ background_hover_color_opacity=”1″ column_shadow=”none” column_border_radius=”none” column_link_target=”_self” gradient_direction=”left_to_right” overlay_strength=”0.3″ width=”1/1″ tablet_width_inherit=”default” tablet_text_alignment=”default” phone_text_alignment=”default” bg_image_animation=”none” border_type=”simple” column_border_width=”none” column_border_style=”solid”][vc_row_inner column_margin=”default” column_direction=”default” column_direction_tablet=”default” column_direction_phone=”default” text_align=”left”][vc_column_inner column_padding=”no-extra-padding” column_padding_tablet=”inherit” column_padding_phone=”inherit” column_padding_position=”all” column_element_spacing=”default” background_color_opacity=”1″ background_hover_color_opacity=”1″ column_shadow=”none” column_border_radius=”none” column_link_target=”_self” gradient_direction=”left_to_right” overlay_strength=”0.3″ width=”1/2″ tablet_width_inherit=”default” bg_image_animation=”none” border_type=”simple” column_border_width=”none” column_border_style=”solid”][vc_column_text]\nAre you in transition? Are you thinking of changing positions? Is your company hiring? Then register for our meeting!  This meeting is open and complimentary to all members\, whether you are looking for a new position or want to help your colleagues.  \nLet us know if you are currently in transition so that we may keep you apprised of potential opportunities as we hear about them.  Email Mark Beatty or Giacomo Mascillaro\, the hosts of the meeting.\n\nMore information is available on the MIT message site and our information page.  Also\, check out SIM National’s database of I.T. executive jobs\, at careers.simnet.org.\nMeetings will be held every other Monday.  Schedule permitting\, we will be joined at most meetings by Dan Counts\, Certified Career Coach and co-leader of the West Coast SIM MIT chapter. \n\nTo register\, select your complimentary ticket below.  [/vc_column_text][/vc_column_inner][vc_column_inner column_padding=”no-extra-padding” column_padding_tablet=”inherit” column_padding_phone=”inherit” column_padding_position=”all” column_element_spacing=”default” background_color_opacity=”1″ background_hover_color_opacity=”1″ column_shadow=”none” column_border_radius=”none” column_link_target=”_self” gradient_direction=”left_to_right” overlay_strength=”0.3″ width=”1/2″ tablet_width_inherit=”default” bg_image_animation=”none” border_type=”simple” column_border_width=”none” column_border_style=”solid”][image_with_animation image_url=”9596″ animation=”None” hover_animation=”none” alignment=”” border_radius=”none” box_shadow=”none” image_loading=”default” max_width=”100%” max_width_mobile=”default”][/vc_column_inner][/vc_row_inner][/vc_column][/vc_row]
URL:https://njsim.org/event/members-in-transition-m-i-t-in-person-meeting-2025-07-07/
LOCATION:Madison Hotel\, 1 Convent Road\, Morristown\, NJ\, United States
CATEGORIES:Member Event,Webinar
ATTACH;FMTTYPE=image/jpeg:https://njsim.org/wp-content/uploads/2023/03/Help-Support-Guidance-Assistance-scaled.jpeg
END:VEVENT
BEGIN:VEVENT
DTSTART;TZID=America/New_York:20250709T180000
DTEND;TZID=America/New_York:20250709T210000
DTSTAMP:20260425T065635
CREATED:20250904T225822Z
LAST-MODIFIED:20250904T225822Z
UID:19825-1752084000-1752094800@njsim.org
SUMMARY:SIM NJ Wine Tasting Event
DESCRIPTION:[vc_row type=”in_container” full_screen_row_position=”middle” column_margin=”default” column_direction=”default” column_direction_tablet=”default” column_direction_phone=”default” scene_position=”center” text_color=”dark” text_align=”left” row_border_radius=”none” row_border_radius_applies=”bg” overlay_strength=”0.3″ gradient_direction=”left_to_right” shape_divider_position=”bottom” bg_image_animation=”none”][vc_column column_padding=”no-extra-padding” column_padding_tablet=”inherit” column_padding_phone=”inherit” column_padding_position=”all” column_element_spacing=”default” background_color_opacity=”1″ background_hover_color_opacity=”1″ column_shadow=”none” column_border_radius=”none” column_link_target=”_self” gradient_direction=”left_to_right” overlay_strength=”0.3″ width=”1/1″ tablet_width_inherit=”default” tablet_text_alignment=”default” phone_text_alignment=”default” bg_image_animation=”none” border_type=”simple” column_border_width=”none” column_border_style=”solid”][vc_column_text] \nLooking to taste a few wines and learn a bit about them? Join us on July 9 for a light-hearted\, yet educational wine tasting workshop\, led by perhaps SIM’s greatest wine expert\, Mikhail Papovsky. \nMikhail Papovsky is a win-for-all business model advocate. His ideas can be found in Forbes.com\, CIO.com\, TEDx\, his own series of blogs\, and public speaking. Mikhail is a founder and CEO of Massaro\, a management consulting firm focused on outcomes from IT investments. He has been a SIM member since 2011\, SIM Boston’s MCD chair since 2018\, and a SIM sponsor on chapter and national levels since 2015. \nMikhail is a certified Wine Oenophile. He is also an Ambassador for Chevaliers de la Chanterpleur in Vouvray\, France. He has a passion for wine education with an approach that takes mystery and complexity out and expands knowledge of wine enthusiasts of every level. \nThe fine print: \n\nThis is an “invitation only” event\, and this invitation is not transferable.\nThis is a free event\, sponsored by Massaro. Attendance is limited to 25 members.  If you register and are unable to attend\, we ask that you let us know as soon as possible so that others may attend in your place.\n\n[/vc_column_text][/vc_column][/vc_row][vc_row type=”in_container” full_screen_row_position=”middle” column_margin=”default” column_direction=”default” column_direction_tablet=”default” column_direction_phone=”default” scene_position=”center” text_color=”dark” text_align=”left” row_border_radius=”none” row_border_radius_applies=”bg” overlay_strength=”0.3″ gradient_direction=”left_to_right” shape_divider_position=”bottom” bg_image_animation=”none”][vc_column column_padding=”no-extra-padding” column_padding_tablet=”inherit” column_padding_phone=”inherit” column_padding_position=”all” column_element_spacing=”default” background_color_opacity=”1″ background_hover_color_opacity=”1″ column_shadow=”none” column_border_radius=”none” column_link_target=”_self” gradient_direction=”left_to_right” overlay_strength=”0.3″ width=”1/1″ tablet_width_inherit=”default” tablet_text_alignment=”default” phone_text_alignment=”default” bg_image_animation=”none” border_type=”simple” column_border_width=”none” column_border_style=”solid”][vc_column_text]\n\n\n\n\nTo register for this complimentary SIM NJ Member event\, or if you have any questions\, email Pasquale Cirullo at pcirullo@simnj.org. \n\n\n\n\n[/vc_column_text][/vc_column][/vc_row]
URL:https://njsim.org/event/sim-nj-wine-tasting-event-2/
LOCATION:Loucas Restaurant\, Edison\, NJ\, United States
CATEGORIES:Member Event,Monthly Meeting,Offsite Meeting
ATTACH;FMTTYPE=image/png:https://njsim.org/wp-content/uploads/2024/06/Wine-Tasting.png
END:VEVENT
BEGIN:VEVENT
DTSTART;TZID=America/New_York:20250721T203000
DTEND;TZID=America/New_York:20250721T210000
DTSTAMP:20260425T065635
CREATED:20250804T152112Z
LAST-MODIFIED:20250811T212921Z
UID:19403-1753129800-1753131600@njsim.org
SUMMARY:Members In Transition (M.I.T.) In-Person Meeting - 2025-07-21
DESCRIPTION:[vc_row type=”in_container” full_screen_row_position=”middle” column_margin=”default” column_direction=”default” column_direction_tablet=”default” column_direction_phone=”default” scene_position=”center” text_color=”dark” text_align=”left” row_border_radius=”none” row_border_radius_applies=”bg” overlay_strength=”0.3″ gradient_direction=”left_to_right” shape_divider_position=”bottom” bg_image_animation=”none”][vc_column column_padding=”no-extra-padding” column_padding_tablet=”inherit” column_padding_phone=”inherit” column_padding_position=”all” column_element_spacing=”default” background_color_opacity=”1″ background_hover_color_opacity=”1″ column_shadow=”none” column_border_radius=”none” column_link_target=”_self” gradient_direction=”left_to_right” overlay_strength=”0.3″ width=”1/1″ tablet_width_inherit=”default” tablet_text_alignment=”default” phone_text_alignment=”default” bg_image_animation=”none” border_type=”simple” column_border_width=”none” column_border_style=”solid”][vc_row_inner column_margin=”default” column_direction=”default” column_direction_tablet=”default” column_direction_phone=”default” text_align=”left”][vc_column_inner column_padding=”no-extra-padding” column_padding_tablet=”inherit” column_padding_phone=”inherit” column_padding_position=”all” column_element_spacing=”default” background_color_opacity=”1″ background_hover_color_opacity=”1″ column_shadow=”none” column_border_radius=”none” column_link_target=”_self” gradient_direction=”left_to_right” overlay_strength=”0.3″ width=”1/2″ tablet_width_inherit=”default” bg_image_animation=”none” border_type=”simple” column_border_width=”none” column_border_style=”solid”][vc_column_text]\nAre you in transition? Are you thinking of changing positions? Is your company hiring? Then register for our meeting!  This meeting is open and complimentary to all members\, whether you are looking for a new position or want to help your colleagues.  \nLet us know if you are currently in transition so that we may keep you apprised of potential opportunities as we hear about them.  Email Mark Beatty or Giacomo Mascillaro\, the hosts of the meeting.\n\nMore information is available on the MIT message site and our information page.  Also\, check out SIM National’s database of I.T. executive jobs\, at careers.simnet.org.\nMeetings will be held every other Monday.  Schedule permitting\, we will be joined at most meetings by Dan Counts\, Certified Career Coach and co-leader of the West Coast SIM MIT chapter. \n\nTo register\, select your complimentary ticket below.  [/vc_column_text][/vc_column_inner][vc_column_inner column_padding=”no-extra-padding” column_padding_tablet=”inherit” column_padding_phone=”inherit” column_padding_position=”all” column_element_spacing=”default” background_color_opacity=”1″ background_hover_color_opacity=”1″ column_shadow=”none” column_border_radius=”none” column_link_target=”_self” gradient_direction=”left_to_right” overlay_strength=”0.3″ width=”1/2″ tablet_width_inherit=”default” bg_image_animation=”none” border_type=”simple” column_border_width=”none” column_border_style=”solid”][image_with_animation image_url=”9596″ animation=”None” hover_animation=”none” alignment=”” border_radius=”none” box_shadow=”none” image_loading=”default” max_width=”100%” max_width_mobile=”default”][/vc_column_inner][/vc_row_inner][/vc_column][/vc_row]
URL:https://njsim.org/event/members-in-transition-m-i-t-in-person-meeting-2025-07-21/
LOCATION:Madison Hotel\, 1 Convent Road\, Morristown\, NJ\, United States
CATEGORIES:Member Event,Webinar
ATTACH;FMTTYPE=image/jpeg:https://njsim.org/wp-content/uploads/2023/03/Help-Support-Guidance-Assistance-scaled.jpeg
END:VEVENT
END:VCALENDAR