BEGIN:VCALENDAR
VERSION:2.0
PRODID:-//NJ Society for Information Management - ECPv6.15.18//NONSGML v1.0//EN
CALSCALE:GREGORIAN
METHOD:PUBLISH
X-WR-CALNAME:NJ Society for Information Management
X-ORIGINAL-URL:https://njsim.org
X-WR-CALDESC:Events for NJ Society for Information Management
REFRESH-INTERVAL;VALUE=DURATION:PT1H
X-Robots-Tag:noindex
X-PUBLISHED-TTL:PT1H
BEGIN:VTIMEZONE
TZID:America/New_York
BEGIN:DAYLIGHT
TZOFFSETFROM:-0500
TZOFFSETTO:-0400
TZNAME:EDT
DTSTART:20240310T070000
END:DAYLIGHT
BEGIN:STANDARD
TZOFFSETFROM:-0400
TZOFFSETTO:-0500
TZNAME:EST
DTSTART:20241103T060000
END:STANDARD
BEGIN:DAYLIGHT
TZOFFSETFROM:-0500
TZOFFSETTO:-0400
TZNAME:EDT
DTSTART:20250309T070000
END:DAYLIGHT
BEGIN:STANDARD
TZOFFSETFROM:-0400
TZOFFSETTO:-0500
TZNAME:EST
DTSTART:20251102T060000
END:STANDARD
BEGIN:DAYLIGHT
TZOFFSETFROM:-0500
TZOFFSETTO:-0400
TZNAME:EDT
DTSTART:20260308T070000
END:DAYLIGHT
BEGIN:STANDARD
TZOFFSETFROM:-0400
TZOFFSETTO:-0500
TZNAME:EST
DTSTART:20261101T060000
END:STANDARD
END:VTIMEZONE
BEGIN:VEVENT
DTSTART;VALUE=DATE:20251104
DTEND;VALUE=DATE:20251107
DTSTAMP:20260424T233238
CREATED:20250925T172505Z
LAST-MODIFIED:20250925T173107Z
UID:20664-1762214400-1762473599@njsim.org
SUMMARY:SIM Tech Exec 2025
DESCRIPTION:[vc_row type=”in_container” full_screen_row_position=”middle” column_margin=”default” column_direction=”default” column_direction_tablet=”default” column_direction_phone=”default” scene_position=”center” text_color=”dark” text_align=”left” row_border_radius=”none” row_border_radius_applies=”bg” overlay_strength=”0.3″ gradient_direction=”left_to_right” shape_divider_position=”bottom” bg_image_animation=”none”][vc_column column_padding=”no-extra-padding” column_padding_tablet=”inherit” column_padding_phone=”inherit” column_padding_position=”all” column_element_spacing=”default” background_color_opacity=”1″ background_hover_color_opacity=”1″ column_shadow=”none” column_border_radius=”none” column_link_target=”_self” gradient_direction=”left_to_right” overlay_strength=”0.3″ width=”1/1″ tablet_width_inherit=”default” tablet_text_alignment=”default” phone_text_alignment=”default” bg_image_animation=”none” border_type=”simple” column_border_width=”none” column_border_style=”solid”][vc_column_text]\n\n\n\n\n\n\n\n  \nSIM TechExec 2025 is held in conjunction with the TechServe Alliance Executive Summit\, a conference for leaders of IT and engineering staffing firms. TechExec equips today’s IT leaders to thrive in a rapidly evolving landscape. From shifting to a product mindset and leading with AI-powered empathy\, to enhancing executive visibility and preparing for boardroom influence\, this experience is designed to elevate your strategy and leadership. \nAttend SIM TechExec 2025 and: \n\nEngage with your peers\, leading experts and pioneering thinkers.\nCollaborate and build relationships with your peers from coast to coast.\nGain actionable insights that will empower you to steer your organization toward future success.\n\n\n\n\n\n\n\n\n\n\n\n\n\nThe Search for Today’s Leaders\n\n\n\n\n\nTop Executive Search Firms Join SIM TechExec Panel on Thursday!\nModerated by Craig Cuyar\nExecutive Search Firms Heller\, Korn Ferry\, and Russell Reynolds join Craig Cuyar of Omnicon Group in the “Search for Today’s Leaders.” In an era where executive visibility is essential for influence and impact\, CIOs are increasingly turning to platforms like LinkedIn and podcasts to share insights\, build thought leadership\, and shape industry narratives. This fireside chat explores how strategic visibility not only elevates personal brand but also strengthens organizational credibility. Additionally\, networking through philanthropy is emerging as a powerful avenue for CIOs to forge meaningful connections while aligning with purpose-driven initiatives. Together\, these approaches position technology leaders at the intersection of innovation\, influence\, and impact. \n  \n\n\n\n\n\n\n\n\n\n\n\n\nSIM Invitational Golf Tournament \nJoin us for a round of golf to kick off this year’s TechExec at The Rookery!\nEnjoy a morning of friendly competition\, camaraderie\, and great views. Show off your skills and compete for great prizes—including awards for the first place team! \nReserve your spot when you register for TechExec. Don’t miss out on this exciting start to the event! \n\n\n\n\n\n\n[/vc_column_text][vc_column_text][/vc_column_text][/vc_column][/vc_row][vc_row type=”in_container” full_screen_row_position=”middle” column_margin=”default” column_direction=”default” column_direction_tablet=”default” column_direction_phone=”default” scene_position=”center” text_color=”dark” text_align=”left” row_border_radius=”none” row_border_radius_applies=”bg” overlay_strength=”0.3″ gradient_direction=”left_to_right” shape_divider_position=”bottom” bg_image_animation=”none”][vc_column column_padding=”no-extra-padding” column_padding_tablet=”inherit” column_padding_phone=”inherit” column_padding_position=”all” column_element_spacing=”default” background_color_opacity=”1″ background_hover_color_opacity=”1″ column_shadow=”none” column_border_radius=”none” column_link_target=”_self” gradient_direction=”left_to_right” overlay_strength=”0.3″ width=”1/1″ tablet_width_inherit=”default” tablet_text_alignment=”default” phone_text_alignment=”default” bg_image_animation=”none” border_type=”simple” column_border_width=”none” column_border_style=”solid”][vc_column_text][/vc_column_text][/vc_column][/vc_row]
URL:https://njsim.org/event/sim-tech-exec-2025/
LOCATION:J. W. Marriott\, Marco Island\, FL\, United States
CATEGORIES:Member Event,Offsite Meeting
ATTACH;FMTTYPE=image/png:https://njsim.org/wp-content/uploads/2025/09/4837535-6798b51a9f078.png
END:VEVENT
BEGIN:VEVENT
DTSTART;TZID=America/New_York:20251105T120000
DTEND;TZID=America/New_York:20251105T130000
DTSTAMP:20260424T233238
CREATED:20250829T203336Z
LAST-MODIFIED:20250829T203336Z
UID:19580-1762344000-1762347600@njsim.org
SUMMARY:SIM Leadership Series: David Vidoni\, C.I.O. of Pegasystems Inc.
DESCRIPTION:[vc_row type=”in_container” full_screen_row_position=”middle” column_margin=”default” column_direction=”default” column_direction_tablet=”default” column_direction_phone=”default” scene_position=”center” text_color=”dark” text_align=”left” row_border_radius=”none” row_border_radius_applies=”bg” overlay_strength=”0.3″ gradient_direction=”left_to_right” shape_divider_position=”bottom” bg_image_animation=”none”][vc_column column_padding=”no-extra-padding” column_padding_tablet=”inherit” column_padding_phone=”inherit” column_padding_position=”all” column_element_spacing=”default” background_color_opacity=”1″ background_hover_color_opacity=”1″ column_shadow=”none” column_border_radius=”none” column_link_target=”_self” gradient_direction=”left_to_right” overlay_strength=”0.3″ width=”1/1″ tablet_width_inherit=”default” tablet_text_alignment=”default” phone_text_alignment=”default” bg_image_animation=”none” border_type=”simple” column_border_width=”none” column_border_style=”solid”][vc_column_text]\nDavid Vidoni currently serves as Chief Information Officer at Pegasystems\, Inc.\, a multi-billion-dollar global provider of customer relationship management and business process management software. His 24-year journey at Pega includes steady progression through strategic roles before assuming the CIO position in April 2024.\n\n\nDavid oversees the Global Technology team\, overseeing enterprise business systems\, infrastructure\, AI\, digital web\, end client services\, business intelligence\, analytics\, data platforms\, project management\, DevOps\, and quality assurance. David leads Pegasystems’ IT vision\, strategy\, and digital transformation\, enabling the company to achieve efficiencies at scale.\n\n\nDavid holds a BS in Engineering from Clarkson University and an MBA from Bowling Green State University. He actively contributes to the technology leadership community as CIO Roundtable Co-Chair for SIM Boston and as a CIO Governing Board Member for Evanta\, a Gartner Company.\n\n\nHis session will offer valuable insights on navigating digital transformation\, building high-performing global teams\, and driving innovation in today’s rapidly evolving technology landscape.\n[/vc_column_text][vc_column_text][/vc_column_text][/vc_column][/vc_row][vc_row type=”in_container” full_screen_row_position=”middle” column_margin=”default” column_direction=”default” column_direction_tablet=”default” column_direction_phone=”default” scene_position=”center” text_color=”dark” text_align=”left” row_border_radius=”none” row_border_radius_applies=”bg” overlay_strength=”0.3″ gradient_direction=”left_to_right” shape_divider_position=”bottom” bg_image_animation=”none”][vc_column column_padding=”no-extra-padding” column_padding_tablet=”inherit” column_padding_phone=”inherit” column_padding_position=”all” column_element_spacing=”default” background_color_opacity=”1″ background_hover_color_opacity=”1″ column_shadow=”none” column_border_radius=”none” column_link_target=”_self” gradient_direction=”left_to_right” overlay_strength=”0.3″ width=”1/1″ tablet_width_inherit=”default” tablet_text_alignment=”default” phone_text_alignment=”default” bg_image_animation=”none” border_type=”simple” column_border_width=”none” column_border_style=”solid”][vc_column_text][/vc_column_text][/vc_column][/vc_row]
URL:https://njsim.org/event/sim-leadership-series-david-vidoni-c-i-o-of-pegasystems-inc/
LOCATION:Webinar
CATEGORIES:Member Event,Webinar
ATTACH;FMTTYPE=image/png:https://njsim.org/wp-content/uploads/2025/08/SLI_-Guest_Speaker_David_Vid-scaled.png
END:VEVENT
END:VCALENDAR