BEGIN:VCALENDAR
VERSION:2.0
PRODID:-//NJ Society for Information Management - ECPv6.15.18//NONSGML v1.0//EN
CALSCALE:GREGORIAN
METHOD:PUBLISH
X-ORIGINAL-URL:https://njsim.org
X-WR-CALDESC:Events for NJ Society for Information Management
REFRESH-INTERVAL;VALUE=DURATION:PT1H
X-Robots-Tag:noindex
X-PUBLISHED-TTL:PT1H
BEGIN:VTIMEZONE
TZID:America/New_York
BEGIN:DAYLIGHT
TZOFFSETFROM:-0500
TZOFFSETTO:-0400
TZNAME:EDT
DTSTART:20250309T070000
END:DAYLIGHT
BEGIN:STANDARD
TZOFFSETFROM:-0400
TZOFFSETTO:-0500
TZNAME:EST
DTSTART:20251102T060000
END:STANDARD
BEGIN:DAYLIGHT
TZOFFSETFROM:-0500
TZOFFSETTO:-0400
TZNAME:EDT
DTSTART:20260308T070000
END:DAYLIGHT
BEGIN:STANDARD
TZOFFSETFROM:-0400
TZOFFSETTO:-0500
TZNAME:EST
DTSTART:20261101T060000
END:STANDARD
BEGIN:DAYLIGHT
TZOFFSETFROM:-0500
TZOFFSETTO:-0400
TZNAME:EDT
DTSTART:20270314T070000
END:DAYLIGHT
BEGIN:STANDARD
TZOFFSETFROM:-0400
TZOFFSETTO:-0500
TZNAME:EST
DTSTART:20271107T060000
END:STANDARD
END:VTIMEZONE
BEGIN:VEVENT
DTSTART;TZID=America/New_York:20260311T120000
DTEND;TZID=America/New_York:20260311T130000
DTSTAMP:20260424T171400
CREATED:20260316T024749Z
LAST-MODIFIED:20260316T024821Z
UID:23723-1773230400-1773234000@njsim.org
SUMMARY:SIM DigiRisk SIG - Cloud Security: What is Changing and Strategies to Enable
DESCRIPTION:[vc_row type=”in_container” full_screen_row_position=”middle” column_margin=”default” column_direction=”default” column_direction_tablet=”default” column_direction_phone=”default” scene_position=”center” text_color=”dark” text_align=”left” row_border_radius=”none” row_border_radius_applies=”bg” row_position_desktop=”default” row_position_tablet=”inherit” row_position_phone=”inherit” overflow=”visible” overlay_strength=”0.3″ gradient_direction=”left_to_right” shape_divider_position=”bottom” bg_image_animation=”none”][vc_column column_padding=”no-extra-padding” column_padding_tablet=”inherit” column_padding_phone=”inherit” column_padding_position=”all” flex_gap_desktop=”10px” column_element_direction_desktop=”default” column_element_spacing=”default” desktop_text_alignment=”default” tablet_text_alignment=”default” phone_text_alignment=”default” background_color_opacity=”1″ background_hover_color_opacity=”1″ column_backdrop_filter=”none” column_shadow=”none” column_border_radius=”none” column_link_target=”_self” column_position=”default” gradient_direction=”left_to_right” overlay_strength=”0.3″ width=”1/1″ tablet_width_inherit=”default” animation_type=”default” bg_image_animation=”none” border_type=”simple” column_border_width=”none” column_border_style=”solid”][vc_column_text css=”” text_direction=”default”]\n\nAbout the Session:\nCloud transformation\, regulatory expansion\, and the rapid advancement of Artificial Intelligence are redefining enterprise risk. IT leaders must navigate increasing complexity while enabling business innovation. This session provides a concise assessment of the current cloud security landscape and offers focused strategic and tactical guidance to reduce risk while supporting organizational growth. \n  \n\nWhat is the current Cloud Security landscape\nGiven the revolution of Cloud and AI\, what are the most important trends in Cloud Security\nWhere do IT Leaders focus strategically and what approaches can organizations utilize in today’s dynamic environment\n\n  \nAbout the Speaker:\n  \nValene Skerpac \nValene is a cyber security executive with extensive experience and success in leading security in fast-pace\, dynamic environments to ensure organizational priorities and mandates are met and assets protected. She is currently founder and CEO atSecurity Cthink\, providing guidance to organizations enabling innovation andbusiness by leveraging modern technologies\, such as AI and Cloud. As a senior security executive at Accenture\, Valene led and advised global institutions on leading edge projects for over a decade. Earlier in her career\, she was both a CIO and CISO at a smaller insurance company and she founded a biometrics firm where she patented a voice-based biometric authentication solution employing AI providing her with a deep appreciation for embedding security to benefit society. \nCOST TO ATTEND:\nFree for SIM Members.\nEmployees of SIM Members are welcome to attend for free – please email easig@simnet.org for a promo code to register.\nPlease sign in to receive member pricing for you and your staff. \n  \nATTENDEE SUPPORT:\nIf you have trouble registering or need to renew your SIM membership\, please email sim@simnet.org. \nIf you require special assistance of any kind\, please call us at 800.387.9746 or email us at easig@simnet.org.[/vc_column_text][/vc_column][/vc_row]
URL:https://njsim.org/event/sim-digirisk-sig-cloud-security-what-is-changing-and-strategies-to-enable/
LOCATION:NJ
CATEGORIES:Member Event,Webinar
ATTACH;FMTTYPE=image/png:https://njsim.org/wp-content/uploads/2026/03/DigiRisk_Mar_11_2026.png
END:VEVENT
END:VCALENDAR