BEGIN:VCALENDAR
VERSION:2.0
PRODID:-//NJ Society for Information Management - ECPv6.15.18//NONSGML v1.0//EN
CALSCALE:GREGORIAN
METHOD:PUBLISH
X-ORIGINAL-URL:https://njsim.org
X-WR-CALDESC:Events for NJ Society for Information Management
REFRESH-INTERVAL;VALUE=DURATION:PT1H
X-Robots-Tag:noindex
X-PUBLISHED-TTL:PT1H
BEGIN:VTIMEZONE
TZID:America/New_York
BEGIN:DAYLIGHT
TZOFFSETFROM:-0500
TZOFFSETTO:-0400
TZNAME:EDT
DTSTART:20240310T070000
END:DAYLIGHT
BEGIN:STANDARD
TZOFFSETFROM:-0400
TZOFFSETTO:-0500
TZNAME:EST
DTSTART:20241103T060000
END:STANDARD
BEGIN:DAYLIGHT
TZOFFSETFROM:-0500
TZOFFSETTO:-0400
TZNAME:EDT
DTSTART:20250309T070000
END:DAYLIGHT
BEGIN:STANDARD
TZOFFSETFROM:-0400
TZOFFSETTO:-0500
TZNAME:EST
DTSTART:20251102T060000
END:STANDARD
BEGIN:DAYLIGHT
TZOFFSETFROM:-0500
TZOFFSETTO:-0400
TZNAME:EDT
DTSTART:20260308T070000
END:DAYLIGHT
BEGIN:STANDARD
TZOFFSETFROM:-0400
TZOFFSETTO:-0500
TZNAME:EST
DTSTART:20261101T060000
END:STANDARD
END:VTIMEZONE
BEGIN:VEVENT
DTSTART;TZID=America/New_York:20250709T180000
DTEND;TZID=America/New_York:20250709T210000
DTSTAMP:20260425T083024
CREATED:20250904T225822Z
LAST-MODIFIED:20250904T225822Z
UID:19825-1752084000-1752094800@njsim.org
SUMMARY:SIM NJ Wine Tasting Event
DESCRIPTION:[vc_row type=”in_container” full_screen_row_position=”middle” column_margin=”default” column_direction=”default” column_direction_tablet=”default” column_direction_phone=”default” scene_position=”center” text_color=”dark” text_align=”left” row_border_radius=”none” row_border_radius_applies=”bg” overlay_strength=”0.3″ gradient_direction=”left_to_right” shape_divider_position=”bottom” bg_image_animation=”none”][vc_column column_padding=”no-extra-padding” column_padding_tablet=”inherit” column_padding_phone=”inherit” column_padding_position=”all” column_element_spacing=”default” background_color_opacity=”1″ background_hover_color_opacity=”1″ column_shadow=”none” column_border_radius=”none” column_link_target=”_self” gradient_direction=”left_to_right” overlay_strength=”0.3″ width=”1/1″ tablet_width_inherit=”default” tablet_text_alignment=”default” phone_text_alignment=”default” bg_image_animation=”none” border_type=”simple” column_border_width=”none” column_border_style=”solid”][vc_column_text] \nLooking to taste a few wines and learn a bit about them? Join us on July 9 for a light-hearted\, yet educational wine tasting workshop\, led by perhaps SIM’s greatest wine expert\, Mikhail Papovsky. \nMikhail Papovsky is a win-for-all business model advocate. His ideas can be found in Forbes.com\, CIO.com\, TEDx\, his own series of blogs\, and public speaking. Mikhail is a founder and CEO of Massaro\, a management consulting firm focused on outcomes from IT investments. He has been a SIM member since 2011\, SIM Boston’s MCD chair since 2018\, and a SIM sponsor on chapter and national levels since 2015. \nMikhail is a certified Wine Oenophile. He is also an Ambassador for Chevaliers de la Chanterpleur in Vouvray\, France. He has a passion for wine education with an approach that takes mystery and complexity out and expands knowledge of wine enthusiasts of every level. \nThe fine print: \n\nThis is an “invitation only” event\, and this invitation is not transferable.\nThis is a free event\, sponsored by Massaro. Attendance is limited to 25 members.  If you register and are unable to attend\, we ask that you let us know as soon as possible so that others may attend in your place.\n\n[/vc_column_text][/vc_column][/vc_row][vc_row type=”in_container” full_screen_row_position=”middle” column_margin=”default” column_direction=”default” column_direction_tablet=”default” column_direction_phone=”default” scene_position=”center” text_color=”dark” text_align=”left” row_border_radius=”none” row_border_radius_applies=”bg” overlay_strength=”0.3″ gradient_direction=”left_to_right” shape_divider_position=”bottom” bg_image_animation=”none”][vc_column column_padding=”no-extra-padding” column_padding_tablet=”inherit” column_padding_phone=”inherit” column_padding_position=”all” column_element_spacing=”default” background_color_opacity=”1″ background_hover_color_opacity=”1″ column_shadow=”none” column_border_radius=”none” column_link_target=”_self” gradient_direction=”left_to_right” overlay_strength=”0.3″ width=”1/1″ tablet_width_inherit=”default” tablet_text_alignment=”default” phone_text_alignment=”default” bg_image_animation=”none” border_type=”simple” column_border_width=”none” column_border_style=”solid”][vc_column_text]\n\n\n\n\nTo register for this complimentary SIM NJ Member event\, or if you have any questions\, email Pasquale Cirullo at pcirullo@simnj.org. \n\n\n\n\n[/vc_column_text][/vc_column][/vc_row]
URL:https://njsim.org/event/sim-nj-wine-tasting-event-2/
LOCATION:Loucas Restaurant\, Edison\, NJ\, United States
CATEGORIES:Member Event,Monthly Meeting,Offsite Meeting
ATTACH;FMTTYPE=image/png:https://njsim.org/wp-content/uploads/2024/06/Wine-Tasting.png
END:VEVENT
END:VCALENDAR