BEGIN:VCALENDAR
VERSION:2.0
PRODID:-//NJ Society for Information Management - ECPv6.15.18//NONSGML v1.0//EN
CALSCALE:GREGORIAN
METHOD:PUBLISH
X-ORIGINAL-URL:https://njsim.org
X-WR-CALDESC:Events for NJ Society for Information Management
REFRESH-INTERVAL;VALUE=DURATION:PT1H
X-Robots-Tag:noindex
X-PUBLISHED-TTL:PT1H
BEGIN:VTIMEZONE
TZID:America/New_York
BEGIN:DAYLIGHT
TZOFFSETFROM:-0500
TZOFFSETTO:-0400
TZNAME:EDT
DTSTART:20240310T070000
END:DAYLIGHT
BEGIN:STANDARD
TZOFFSETFROM:-0400
TZOFFSETTO:-0500
TZNAME:EST
DTSTART:20241103T060000
END:STANDARD
BEGIN:DAYLIGHT
TZOFFSETFROM:-0500
TZOFFSETTO:-0400
TZNAME:EDT
DTSTART:20250309T070000
END:DAYLIGHT
BEGIN:STANDARD
TZOFFSETFROM:-0400
TZOFFSETTO:-0500
TZNAME:EST
DTSTART:20251102T060000
END:STANDARD
BEGIN:DAYLIGHT
TZOFFSETFROM:-0500
TZOFFSETTO:-0400
TZNAME:EDT
DTSTART:20260308T070000
END:DAYLIGHT
BEGIN:STANDARD
TZOFFSETFROM:-0400
TZOFFSETTO:-0500
TZNAME:EST
DTSTART:20261101T060000
END:STANDARD
END:VTIMEZONE
BEGIN:VEVENT
DTSTART;TZID=America/New_York:20251219T180000
DTEND;TZID=America/New_York:20251219T220000
DTSTAMP:20260424T213714
CREATED:20250605T235619Z
LAST-MODIFIED:20251202T200022Z
UID:18830-1766167200-1766181600@njsim.org
SUMMARY:2025 Holiday Celebration
DESCRIPTION:[vc_row type=”in_container” full_screen_row_position=”middle” column_margin=”default” column_direction=”default” column_direction_tablet=”default” column_direction_phone=”default” scene_position=”center” text_color=”dark” text_align=”left” row_border_radius=”none” row_border_radius_applies=”bg” overlay_strength=”0.3″ gradient_direction=”left_to_right” shape_divider_position=”bottom” bg_image_animation=”none”][vc_column column_padding=”no-extra-padding” column_padding_tablet=”inherit” column_padding_phone=”inherit” column_padding_position=”all” column_element_spacing=”default” background_color_opacity=”1″ background_hover_color_opacity=”1″ column_shadow=”none” column_border_radius=”none” column_link_target=”_self” gradient_direction=”left_to_right” overlay_strength=”0.3″ width=”1/1″ tablet_width_inherit=”default” tablet_text_alignment=”default” phone_text_alignment=”default” bg_image_animation=”none” border_type=”simple” column_border_width=”none” column_border_style=”solid”][nectar_gradient_text heading_tag=”h1″ color=”extra-color-gradient-2″ gradient_direction=”horizontal” text=”Holiday Celebration: December 19\, 2025 at the Madison Hotel!”][/vc_column][/vc_row][vc_row type=”in_container” full_screen_row_position=”middle” column_margin=”default” column_direction=”default” column_direction_tablet=”default” column_direction_phone=”default” scene_position=”center” text_color=”dark” text_align=”left” row_border_radius=”none” row_border_radius_applies=”bg” overlay_strength=”0.3″ gradient_direction=”left_to_right” shape_divider_position=”bottom” bg_image_animation=”none”][vc_column column_padding=”no-extra-padding” column_padding_tablet=”inherit” column_padding_phone=”inherit” column_padding_position=”all” column_element_spacing=”default” background_color_opacity=”1″ background_hover_color_opacity=”1″ column_shadow=”none” column_border_radius=”none” column_link_target=”_self” gradient_direction=”left_to_right” overlay_strength=”0.3″ width=”1/1″ tablet_width_inherit=”default” tablet_text_alignment=”default” phone_text_alignment=”default” bg_image_animation=”none” border_type=”simple” column_border_width=”none” column_border_style=”solid”][vc_custom_heading text=””][vc_column_text] \n?Join us at our flagship SOCIAL EVENT OF THE YEAR!?\nGet ready to ring in the season in style! We invite you to our annual Holiday Party on Friday\, December 19\, 2025\, at The Madison Hotel. Enjoy an evening of festive cheer and delightful company in the elegant ambiance of one of Morristown’s finest venues. \n? Date: Friday\, December 19\, 2025\n? Time: 6:00 PM – 10:00 PM\n? Location: The Madison Hotel\n? Cost: $110\, covers the cost of the SIM NJ Member and their guest \n? Entertainment: The evening will be filled with the soulful sounds of holiday jazz by the Adam Machaskee Quintet. From timeless holiday classics to jazzy renditions of your favorite seasonal songs\, their music will set the perfect backdrop for a memorable night. \n✨ Highlights:\nFestive cocktails and delicious bites\nLive jazz music to set the holiday mood\nBeautifully decorated surroundings\, capturing the magic of the season \nCome dressed to impress\, ready to celebrate the holidays with us! Don’t miss this festive occasion with family\, friends\, and colleagues to share in the joy of the season! \n[/vc_column_text][/vc_column][/vc_row]
URL:https://njsim.org/event/2025-holiday-celebration/
LOCATION:Madison Hotel\, 1 Convent Road\, Morristown\, NJ\, United States
CATEGORIES:Member Event,Monthly Meeting
ATTACH;FMTTYPE=image/jpeg:https://njsim.org/wp-content/uploads/2025/06/Winter.jpg
END:VEVENT
END:VCALENDAR