BEGIN:VCALENDAR
VERSION:2.0
PRODID:-//NJ Society for Information Management - ECPv6.15.18//NONSGML v1.0//EN
CALSCALE:GREGORIAN
METHOD:PUBLISH
X-ORIGINAL-URL:https://njsim.org
X-WR-CALDESC:Events for NJ Society for Information Management
REFRESH-INTERVAL;VALUE=DURATION:PT1H
X-Robots-Tag:noindex
X-PUBLISHED-TTL:PT1H
BEGIN:VTIMEZONE
TZID:America/New_York
BEGIN:DAYLIGHT
TZOFFSETFROM:-0500
TZOFFSETTO:-0400
TZNAME:EDT
DTSTART:20230312T070000
END:DAYLIGHT
BEGIN:STANDARD
TZOFFSETFROM:-0400
TZOFFSETTO:-0500
TZNAME:EST
DTSTART:20231105T060000
END:STANDARD
BEGIN:DAYLIGHT
TZOFFSETFROM:-0500
TZOFFSETTO:-0400
TZNAME:EDT
DTSTART:20240310T070000
END:DAYLIGHT
BEGIN:STANDARD
TZOFFSETFROM:-0400
TZOFFSETTO:-0500
TZNAME:EST
DTSTART:20241103T060000
END:STANDARD
BEGIN:DAYLIGHT
TZOFFSETFROM:-0500
TZOFFSETTO:-0400
TZNAME:EDT
DTSTART:20250309T070000
END:DAYLIGHT
BEGIN:STANDARD
TZOFFSETFROM:-0400
TZOFFSETTO:-0500
TZNAME:EST
DTSTART:20251102T060000
END:STANDARD
END:VTIMEZONE
BEGIN:VEVENT
DTSTART;TZID=America/New_York:20240805T130000
DTEND;TZID=America/New_York:20240805T140000
DTSTAMP:20260425T192542
CREATED:20240710T002756Z
LAST-MODIFIED:20240710T004407Z
UID:13343-1722862800-1722866400@njsim.org
SUMMARY:Members In Transition (M.I.T.) Meeting - 2024-08-05
DESCRIPTION:[vc_row type=”in_container” full_screen_row_position=”middle” column_margin=”default” column_direction=”default” column_direction_tablet=”default” column_direction_phone=”default” scene_position=”center” text_color=”dark” text_align=”left” row_border_radius=”none” row_border_radius_applies=”bg” overlay_strength=”0.3″ gradient_direction=”left_to_right” shape_divider_position=”bottom” bg_image_animation=”none”][vc_column column_padding=”no-extra-padding” column_padding_tablet=”inherit” column_padding_phone=”inherit” column_padding_position=”all” column_element_spacing=”default” background_color_opacity=”1″ background_hover_color_opacity=”1″ column_shadow=”none” column_border_radius=”none” column_link_target=”_self” gradient_direction=”left_to_right” overlay_strength=”0.3″ width=”1/1″ tablet_width_inherit=”default” tablet_text_alignment=”default” phone_text_alignment=”default” bg_image_animation=”none” border_type=”simple” column_border_width=”none” column_border_style=”solid”][vc_row_inner column_margin=”default” column_direction=”default” column_direction_tablet=”default” column_direction_phone=”default” text_align=”left”][vc_column_inner column_padding=”no-extra-padding” column_padding_tablet=”inherit” column_padding_phone=”inherit” column_padding_position=”all” column_element_spacing=”default” background_color_opacity=”1″ background_hover_color_opacity=”1″ column_shadow=”none” column_border_radius=”none” column_link_target=”_self” gradient_direction=”left_to_right” overlay_strength=”0.3″ width=”1/2″ tablet_width_inherit=”default” bg_image_animation=”none” border_type=”simple” column_border_width=”none” column_border_style=”solid”][vc_column_text]\nAre you in transition? Are you thinking of changing positions? Is your company hiring? Then register for our meeting!  This meeting is open and complimentary to all members\, whether you are looking for a new position or want to help your colleagues.  \nLet us know if you are currently in transition so that we may keep you apprised of potential opportunities as we hear about them.  Email Mark Beatty or Giacomo Mascillaro\, the hosts of the meeting.\n\nMore information is available on the MIT message site and our information page.  Also\, check out SIM National’s database of I.T. executive jobs\, at careers.simnet.org.\nMeetings will be held every other Monday.  Schedule permitting\, we will be joined at most meetings by Dan Counts\, Certified Career Coach and co-leader of the West Coast SIM MIT chapter. \n\nTo register\, select your complimentary ticket below.  [/vc_column_text][/vc_column_inner][vc_column_inner column_padding=”no-extra-padding” column_padding_tablet=”inherit” column_padding_phone=”inherit” column_padding_position=”all” column_element_spacing=”default” background_color_opacity=”1″ background_hover_color_opacity=”1″ column_shadow=”none” column_border_radius=”none” column_link_target=”_self” gradient_direction=”left_to_right” overlay_strength=”0.3″ width=”1/2″ tablet_width_inherit=”default” bg_image_animation=”none” border_type=”simple” column_border_width=”none” column_border_style=”solid”][image_with_animation image_url=”9596″ animation=”None” hover_animation=”none” alignment=”” border_radius=”none” box_shadow=”none” image_loading=”default” max_width=”100%” max_width_mobile=”default”][/vc_column_inner][/vc_row_inner][/vc_column][/vc_row]
URL:https://njsim.org/event/members-in-transition-m-i-t-meeting-2024-08-05/
LOCATION:Webinar
CATEGORIES:Member Event,Webinar
ATTACH;FMTTYPE=image/jpeg:https://njsim.org/wp-content/uploads/2023/03/Help-Support-Guidance-Assistance-scaled.jpeg
END:VEVENT
BEGIN:VEVENT
DTSTART;TZID=America/New_York:20240814T123000
DTEND;TZID=America/New_York:20240814T133000
DTSTAMP:20260425T192542
CREATED:20240621T205414Z
LAST-MODIFIED:20240621T205414Z
UID:13250-1723638600-1723642200@njsim.org
SUMMARY:SIM Digirisk: "Enhancing Organizational Resilience Through Effective Risk Management\, Part 2"
DESCRIPTION:[vc_row type=”in_container” full_screen_row_position=”middle” column_margin=”default” column_direction=”default” column_direction_tablet=”default” column_direction_phone=”default” scene_position=”center” text_color=”dark” text_align=”left” row_border_radius=”none” row_border_radius_applies=”bg” overlay_strength=”0.3″ gradient_direction=”left_to_right” shape_divider_position=”bottom” bg_image_animation=”none”][vc_column column_padding=”no-extra-padding” column_padding_tablet=”inherit” column_padding_phone=”inherit” column_padding_position=”all” column_element_spacing=”default” background_color_opacity=”1″ background_hover_color_opacity=”1″ column_shadow=”none” column_border_radius=”none” column_link_target=”_self” gradient_direction=”left_to_right” overlay_strength=”0.3″ width=”1/1″ tablet_width_inherit=”default” tablet_text_alignment=”default” phone_text_alignment=”default” bg_image_animation=”none” border_type=”simple” column_border_width=”none” column_border_style=”solid”][vc_row_inner column_margin=”default” column_direction=”default” column_direction_tablet=”default” column_direction_phone=”default” text_align=”left”][vc_column_inner column_padding=”no-extra-padding” column_padding_tablet=”inherit” column_padding_phone=”inherit” column_padding_position=”all” column_element_spacing=”default” background_color_opacity=”1″ background_hover_color_opacity=”1″ column_shadow=”none” column_border_radius=”none” column_link_target=”_self” gradient_direction=”left_to_right” overlay_strength=”0.3″ width=”1/1″ tablet_width_inherit=”default” bg_image_animation=”none” border_type=”simple” column_border_width=”none” column_border_style=”solid”][vc_column_text]\n\n\n\n ​ \n \nAbout the Session: \nJoin us for an insightful 3-part webinar on Risk Management\, designed to equip you with a comprehensive understanding of how to identify\, evaluate\, and mitigate risks within your organization. \nThis session will begin with foundational concepts\, defining risk and exploring what constitutes effective risk management.  With your hosts Daniel Gorecki\, Caren Shiozaki and Blake Holman\, we’ll have an interactive dialog\, providing you with the opportunity to engage with our experts and peers\, enhancing your ability to implement effective risk management strategies. \nIn this first session we will delve into the role of Enterprise Risk Management (ERM)\, emphasizing its importance in both value creation and protection. Our experts will outline the Risk Management Life Cycle\, guiding you through the stages from risk identification to assessment\, response\, monitoring\, and reporting. \nA critical aspect of this webinar is addressing the questions that Boards should ask around risk management to ensure robust oversight and governance. We will explain the Three Lines of Defense model\, illustrating how organizations can structure their risk management functions to ensure accountability and transparency.\n  \nMoving beyond theory\, we will discuss practical applications and share insights on cultivating a strong Risk Culture within your organization. This involves fostering an environment where risk awareness and proactive risk management are ingrained in everyday operations. Additionally\, we will guide you through the process of selecting the appropriate Risk Management Framework tailored to your organization’s needs. \nJoin us this July\, August and September to strengthen your risk management capabilities and enhance your organization’s resilience in an increasingly complex risk landscape. \nRegister Here for the July webcast on Wed\, July 10 at 12:30pm ET \nRegister Here for the August webcast on Wed\, August 14 at 12:30pm ET \nRegister Here for the September webcast on Wed\, September 11 at 12:30pm ET \nAbout the Speakers:\n \nDaniel Gorecki is the Principal Advisor and Consulting Chief Information Security Officer (CISO) at NGC Risk LLC\, a cybersecurity advisory and consultancy firm. With extensive leadership experience spanning startups to Fortune 200 companies like Ascot Group Limited\, Aramark\, and Intercept Pharmaceuticals\, Dan excels in navigating the dynamic and constantly changing sea of cybersecurity\, risk management\, and information technology. Dan recently enhanced his expertise by completing the Chief Risk Officer and Executive Education Certificate from Carnegie Mellon University. A dedicated professional\, Dan holds CISSP and CDPSE certifications and actively participates in non-profit boards and advisory roles. Dan’s academic foundation is rooted in his Computer Engineering degree from Stony Brook University\, and leadership training from SIM’s Rising Leadership Forum further amplify his credentials. \n\nBlake Holman \nChief Administrative Officer / CIO\, BBG Inc.\nSIM DigiRisk SIG Co-Chair \n\nCaren Shiozaki  \nPartner\, Fortium Partners\nSIM DigiRisk SIG Co-Chair  \nCOST TO ATTEND: \nFree for SIM Members.\n$30 for non-members.\nEmployees of SIM Members are welcome to attend for free – please email digirisk@simnet.org for a promo code to register. \n\n\n\n[/vc_column_text][/vc_column_inner][/vc_row_inner][/vc_column][/vc_row][vc_row type=”in_container” full_screen_row_position=”middle” column_margin=”default” column_direction=”default” column_direction_tablet=”default” column_direction_phone=”default” scene_position=”center” text_color=”dark” text_align=”left” row_border_radius=”none” row_border_radius_applies=”bg” overlay_strength=”0.3″ gradient_direction=”left_to_right” shape_divider_position=”bottom” bg_image_animation=”none”][vc_column column_padding=”no-extra-padding” column_padding_tablet=”inherit” column_padding_phone=”inherit” column_padding_position=”all” column_element_spacing=”default” background_color_opacity=”1″ background_hover_color_opacity=”1″ column_shadow=”none” column_border_radius=”none” column_link_target=”_self” gradient_direction=”left_to_right” overlay_strength=”0.3″ width=”1/1″ tablet_width_inherit=”default” tablet_text_alignment=”default” phone_text_alignment=”default” bg_image_animation=”none” border_type=”simple” column_border_width=”none” column_border_style=”solid”][vc_column_text][/vc_column_text][/vc_column][/vc_row][vc_row type=”in_container” full_screen_row_position=”middle” column_margin=”default” column_direction=”default” column_direction_tablet=”default” column_direction_phone=”default” scene_position=”center” text_color=”dark” text_align=”left” row_border_radius=”none” row_border_radius_applies=”bg” overlay_strength=”0.3″ gradient_direction=”left_to_right” shape_divider_position=”bottom” bg_image_animation=”none”][vc_column column_padding=”no-extra-padding” column_padding_tablet=”inherit” column_padding_phone=”inherit” column_padding_position=”all” column_element_spacing=”default” background_color_opacity=”1″ background_hover_color_opacity=”1″ column_shadow=”none” column_border_radius=”none” column_link_target=”_self” gradient_direction=”left_to_right” overlay_strength=”0.3″ width=”1/1″ tablet_width_inherit=”default” tablet_text_alignment=”default” phone_text_alignment=”default” bg_image_animation=”none” border_type=”simple” column_border_width=”none” column_border_style=”solid”][vc_column_text][/vc_column_text][vc_column_text][/vc_column_text][/vc_column][/vc_row]
URL:https://njsim.org/event/sim-digirisk-enhancing-organizational-resilience-through-effective-risk-management-part-2/
LOCATION:Webinar
CATEGORIES:Member Event,Webinar
ATTACH;FMTTYPE=image/png:https://njsim.org/wp-content/uploads/2024/06/Risk-Management.png
END:VEVENT
BEGIN:VEVENT
DTSTART;TZID=America/New_York:20240819T130000
DTEND;TZID=America/New_York:20240819T140000
DTSTAMP:20260425T192542
CREATED:20240710T015308Z
LAST-MODIFIED:20240710T015429Z
UID:13347-1724072400-1724076000@njsim.org
SUMMARY:Members In Transition (M.I.T.) Meeting - 2024-08-19
DESCRIPTION:[vc_row type=”in_container” full_screen_row_position=”middle” column_margin=”default” column_direction=”default” column_direction_tablet=”default” column_direction_phone=”default” scene_position=”center” text_color=”dark” text_align=”left” row_border_radius=”none” row_border_radius_applies=”bg” overlay_strength=”0.3″ gradient_direction=”left_to_right” shape_divider_position=”bottom” bg_image_animation=”none”][vc_column column_padding=”no-extra-padding” column_padding_tablet=”inherit” column_padding_phone=”inherit” column_padding_position=”all” column_element_spacing=”default” background_color_opacity=”1″ background_hover_color_opacity=”1″ column_shadow=”none” column_border_radius=”none” column_link_target=”_self” gradient_direction=”left_to_right” overlay_strength=”0.3″ width=”1/1″ tablet_width_inherit=”default” tablet_text_alignment=”default” phone_text_alignment=”default” bg_image_animation=”none” border_type=”simple” column_border_width=”none” column_border_style=”solid”][vc_row_inner column_margin=”default” column_direction=”default” column_direction_tablet=”default” column_direction_phone=”default” text_align=”left”][vc_column_inner column_padding=”no-extra-padding” column_padding_tablet=”inherit” column_padding_phone=”inherit” column_padding_position=”all” column_element_spacing=”default” background_color_opacity=”1″ background_hover_color_opacity=”1″ column_shadow=”none” column_border_radius=”none” column_link_target=”_self” gradient_direction=”left_to_right” overlay_strength=”0.3″ width=”1/2″ tablet_width_inherit=”default” bg_image_animation=”none” border_type=”simple” column_border_width=”none” column_border_style=”solid”][vc_column_text]\nAre you in transition? Are you thinking of changing positions? Is your company hiring? Then register for our meeting!  This meeting is open and complimentary to all members\, whether you are looking for a new position or want to help your colleagues.  \nLet us know if you are currently in transition so that we may keep you apprised of potential opportunities as we hear about them.  Email Mark Beatty or Giacomo Mascillaro\, the hosts of the meeting.\n\nMore information is available on the MIT message site and our information page.  Also\, check out SIM National’s database of I.T. executive jobs\, at careers.simnet.org.\nMeetings will be held every other Monday.  Schedule permitting\, we will be joined at most meetings by Dan Counts\, Certified Career Coach and co-leader of the West Coast SIM MIT chapter. \n\nTo register\, select your complimentary ticket below.  [/vc_column_text][/vc_column_inner][vc_column_inner column_padding=”no-extra-padding” column_padding_tablet=”inherit” column_padding_phone=”inherit” column_padding_position=”all” column_element_spacing=”default” background_color_opacity=”1″ background_hover_color_opacity=”1″ column_shadow=”none” column_border_radius=”none” column_link_target=”_self” gradient_direction=”left_to_right” overlay_strength=”0.3″ width=”1/2″ tablet_width_inherit=”default” bg_image_animation=”none” border_type=”simple” column_border_width=”none” column_border_style=”solid”][image_with_animation image_url=”9596″ animation=”None” hover_animation=”none” alignment=”” border_radius=”none” box_shadow=”none” image_loading=”default” max_width=”100%” max_width_mobile=”default”][/vc_column_inner][/vc_row_inner][/vc_column][/vc_row]
URL:https://njsim.org/event/members-in-transition-m-i-t-meeting-2024-08-19/
LOCATION:Webinar
CATEGORIES:Member Event,Webinar
ATTACH;FMTTYPE=image/jpeg:https://njsim.org/wp-content/uploads/2023/03/Help-Support-Guidance-Assistance-scaled.jpeg
END:VEVENT
END:VCALENDAR