BEGIN:VCALENDAR
VERSION:2.0
PRODID:-//NJ Society for Information Management - ECPv6.15.18//NONSGML v1.0//EN
CALSCALE:GREGORIAN
METHOD:PUBLISH
X-ORIGINAL-URL:https://njsim.org
X-WR-CALDESC:Events for NJ Society for Information Management
REFRESH-INTERVAL;VALUE=DURATION:PT1H
X-Robots-Tag:noindex
X-PUBLISHED-TTL:PT1H
BEGIN:VTIMEZONE
TZID:America/New_York
BEGIN:DAYLIGHT
TZOFFSETFROM:-0500
TZOFFSETTO:-0400
TZNAME:EDT
DTSTART:20240310T070000
END:DAYLIGHT
BEGIN:STANDARD
TZOFFSETFROM:-0400
TZOFFSETTO:-0500
TZNAME:EST
DTSTART:20241103T060000
END:STANDARD
BEGIN:DAYLIGHT
TZOFFSETFROM:-0500
TZOFFSETTO:-0400
TZNAME:EDT
DTSTART:20250309T070000
END:DAYLIGHT
BEGIN:STANDARD
TZOFFSETFROM:-0400
TZOFFSETTO:-0500
TZNAME:EST
DTSTART:20251102T060000
END:STANDARD
BEGIN:DAYLIGHT
TZOFFSETFROM:-0500
TZOFFSETTO:-0400
TZNAME:EDT
DTSTART:20260308T070000
END:DAYLIGHT
BEGIN:STANDARD
TZOFFSETFROM:-0400
TZOFFSETTO:-0500
TZNAME:EST
DTSTART:20261101T060000
END:STANDARD
END:VTIMEZONE
BEGIN:VEVENT
DTSTART;TZID=America/New_York:20251203T120000
DTEND;TZID=America/New_York:20251203T130000
DTSTAMP:20260424T193747
CREATED:20250829T204336Z
LAST-MODIFIED:20250829T204336Z
UID:19586-1764763200-1764766800@njsim.org
SUMMARY:SIM Leadership Series: Chad Wright\, C.I.O. of Boston Dynamics
DESCRIPTION:[vc_row type=”in_container” full_screen_row_position=”middle” column_margin=”default” column_direction=”default” column_direction_tablet=”default” column_direction_phone=”default” scene_position=”center” text_color=”dark” text_align=”left” row_border_radius=”none” row_border_radius_applies=”bg” overlay_strength=”0.3″ gradient_direction=”left_to_right” shape_divider_position=”bottom” bg_image_animation=”none”][vc_column column_padding=”no-extra-padding” column_padding_tablet=”inherit” column_padding_phone=”inherit” column_padding_position=”all” column_element_spacing=”default” background_color_opacity=”1″ background_hover_color_opacity=”1″ column_shadow=”none” column_border_radius=”none” column_link_target=”_self” gradient_direction=”left_to_right” overlay_strength=”0.3″ width=”1/1″ tablet_width_inherit=”default” tablet_text_alignment=”default” phone_text_alignment=”default” bg_image_animation=”none” border_type=”simple” column_border_width=”none” column_border_style=”solid”][vc_column_text]\nChad Wright: Architecting Digital Transformation in Robotics & Beyond\n\n\nAs an award-winning technology executive with over two decades of progressive leadership experience\, Chad Wright has established himself as a visionary in digital transformation\, particularly at the intersection of robotics and enterprise technology.\n\n\nCurrently serving as Chief Information Officer at Boston Dynamics\, Chad was the company’s first CIO\, tasked with creating and executing enterprise IT strategy from the ground up. His leadership has been instrumental in delivering comprehensive digital transformation initiatives encompassing ERP\, eCommerce\, CRM\, and HCM systems\, while establishing robust information security frameworks that support groundbreaking human-robot collaboration.\n\n\nPrior to Boston Dynamics\, Chad held senior leadership positions at Amazon Robotics and athenahealth\, where he consistently demonstrated excellence in enterprise applications strategy and implementation. His technical expertise spans ERP systems\, business intelligence\, agile methodologies\, and cybersecurity—complemented by a talent for building high-performing teams and creating results-oriented partnerships across organizations.\n\n\nBeyond his corporate responsibilities\, he serves as an Adjunct Lecturer at Bentley University\, teaching graduate and undergraduate courses in IT Project Management and Business Systems Analysis.\n\n\nA graduate of the College of the Holy Cross (BA\, Mathematics and Computer Science) and Bentley University (MS\, Computer Information Systems)\, Chad combines academic excellence with practical business acumen. His approach to technology leadership emphasizes collaboration\, mentorship\, and problem-solving with a positive attitude and inquiring mind.\n\n\nIn this session\, Chad will share insights from his journey from technical foundations to C-suite leadership\, offering practical guidance on creating transformative technology strategies while building and mentoring diverse\, high-performing teams. Join us for an opportunity to learn from a leader who embodies the balance of technical expertise\, business alignment\, and people-centric leadership essential for today’s technology executives.\n[/vc_column_text][vc_column_text][/vc_column_text][/vc_column][/vc_row][vc_row type=”in_container” full_screen_row_position=”middle” column_margin=”default” column_direction=”default” column_direction_tablet=”default” column_direction_phone=”default” scene_position=”center” text_color=”dark” text_align=”left” row_border_radius=”none” row_border_radius_applies=”bg” overlay_strength=”0.3″ gradient_direction=”left_to_right” shape_divider_position=”bottom” bg_image_animation=”none”][vc_column column_padding=”no-extra-padding” column_padding_tablet=”inherit” column_padding_phone=”inherit” column_padding_position=”all” column_element_spacing=”default” background_color_opacity=”1″ background_hover_color_opacity=”1″ column_shadow=”none” column_border_radius=”none” column_link_target=”_self” gradient_direction=”left_to_right” overlay_strength=”0.3″ width=”1/1″ tablet_width_inherit=”default” tablet_text_alignment=”default” phone_text_alignment=”default” bg_image_animation=”none” border_type=”simple” column_border_width=”none” column_border_style=”solid”][vc_column_text][/vc_column_text][/vc_column][/vc_row]
URL:https://njsim.org/event/sim-leadership-series-chad-wright-c-i-o-of-boston-dynamics/
LOCATION:Webinar
CATEGORIES:Member Event,Webinar
ATTACH;FMTTYPE=image/png:https://njsim.org/wp-content/uploads/2025/08/SLI_-Guest_Speaker_Chad_Wrig-scaled.png
END:VEVENT
BEGIN:VEVENT
DTSTART;TZID=America/New_York:20251208T130000
DTEND;TZID=America/New_York:20251208T140000
DTSTAMP:20260424T193747
CREATED:20250904T185832Z
LAST-MODIFIED:20250909T173358Z
UID:19658-1765198800-1765202400@njsim.org
SUMMARY:Members In Transition (M.I.T.) Videoconference
DESCRIPTION:[vc_row type=”in_container” full_screen_row_position=”middle” column_margin=”default” column_direction=”default” column_direction_tablet=”default” column_direction_phone=”default” scene_position=”center” text_color=”dark” text_align=”left” row_border_radius=”none” row_border_radius_applies=”bg” overlay_strength=”0.3″ gradient_direction=”left_to_right” shape_divider_position=”bottom” bg_image_animation=”none”][vc_column column_padding=”no-extra-padding” column_padding_tablet=”inherit” column_padding_phone=”inherit” column_padding_position=”all” column_element_spacing=”default” background_color_opacity=”1″ background_hover_color_opacity=”1″ column_shadow=”none” column_border_radius=”none” column_link_target=”_self” gradient_direction=”left_to_right” overlay_strength=”0.3″ width=”1/1″ tablet_width_inherit=”default” tablet_text_alignment=”default” phone_text_alignment=”default” bg_image_animation=”none” border_type=”simple” column_border_width=”none” column_border_style=”solid”][vc_row_inner column_margin=”default” column_direction=”default” column_direction_tablet=”default” column_direction_phone=”default” text_align=”left”][vc_column_inner column_padding=”no-extra-padding” column_padding_tablet=”inherit” column_padding_phone=”inherit” column_padding_position=”all” column_element_spacing=”default” background_color_opacity=”1″ background_hover_color_opacity=”1″ column_shadow=”none” column_border_radius=”none” column_link_target=”_self” gradient_direction=”left_to_right” overlay_strength=”0.3″ width=”1/2″ tablet_width_inherit=”default” bg_image_animation=”none” border_type=”simple” column_border_width=”none” column_border_style=”solid”][vc_column_text]\nAre you in transition? Are you thinking of changing positions? Is your company hiring? Then register for our meeting!  This meeting is open and complimentary to all members\, whether you are looking for a new position or want to help your colleagues.  \nLet us know if you are currently in transition so that we may keep you apprised of potential opportunities as we hear about them.  Email Mark Beatty or Giacomo Mascillaro\, the hosts of the meeting.\n\nMore information is available on the MIT message site and our information page.  Also\, check out SIM National’s database of I.T. executive jobs\, at careers.simnet.org.\nMeetings will be held every other Monday.  Schedule permitting\, we will be joined at most meetings by Dan Counts\, Certified Career Coach and co-leader of the West Coast SIM MIT chapter. \n\nTo register\, select your complimentary ticket below.  [/vc_column_text][/vc_column_inner][vc_column_inner column_padding=”no-extra-padding” column_padding_tablet=”inherit” column_padding_phone=”inherit” column_padding_position=”all” column_element_spacing=”default” background_color_opacity=”1″ background_hover_color_opacity=”1″ column_shadow=”none” column_border_radius=”none” column_link_target=”_self” gradient_direction=”left_to_right” overlay_strength=”0.3″ width=”1/2″ tablet_width_inherit=”default” bg_image_animation=”none” border_type=”simple” column_border_width=”none” column_border_style=”solid”][image_with_animation image_url=”9596″ animation=”None” hover_animation=”none” alignment=”” border_radius=”none” box_shadow=”none” image_loading=”default” max_width=”100%” max_width_mobile=”default”][/vc_column_inner][/vc_row_inner][/vc_column][/vc_row]
URL:https://njsim.org/event/members-in-transition-m-i-t-videoconference/2025-12-08/
LOCATION:Webinar
CATEGORIES:Member Event,Webinar
ATTACH;FMTTYPE=image/jpeg:https://njsim.org/wp-content/uploads/2023/03/Help-Support-Guidance-Assistance-scaled.jpeg
END:VEVENT
BEGIN:VEVENT
DTSTART;TZID=America/New_York:20251210T123000
DTEND;TZID=America/New_York:20251210T133000
DTSTAMP:20260424T193747
CREATED:20251121T200636Z
LAST-MODIFIED:20251121T201834Z
UID:21459-1765369800-1765373400@njsim.org
SUMMARY:SIM DigiRisk SIG - Stop Explaining AI Governance. Start Proving Its Value
DESCRIPTION:When:\nWednesday\, December 10\, 2025\n12:30 – 1:30 PM ET \nWhere:\nVirtual\nUnited States \nContact:\nMichelle Gibson\ndigirisk@simnet.org \n  \nAbout the Session:\nWhile your competitors are still debating AI policies\, leading companies are turning governance into a competitive advantage—and the market is noticing. \n2026’s defining question isn’t “Can we deploy AI?” It’s “Can we scale AI across the enterprise without blowing up?” Boards are demanding answers. Regulators are watching. One misstep costs millions in market cap. \nIn this collaborative webcast with the DigiRisk and RTE SIGs\, you’ll discover: \n\nThe governance capabilities that separate leaders from laggards – and what many companies are doing wrong\nHow to navigate legal\, risk\, and compliance without becoming the bottleneck – bust the myth that “AI Governance Kills Innovation”\nA board presentation framework that works – connecting AI investments directly to revenue growth\, cost reduction\, and risk mitigation\nReal obstacles and how top performers overcome them – from data disasters to organizational resistance\n\nCome away knowing how to align the C-suite around value creation\, not just risk management. \nAbout the Speakers:\nIT Lawyer at Peter S. Vogel\, PC aka VOGEL IT LAW\nPeter S. Vogel is a lawyer at VOGEL IT LAW (www.vogelitlaw.com) aka Peter S. Vogel\, PC. Before practicing law he worked as a computer programmer\, received a Master’s in Computer Science\, and taught graduate courses in information systems. \nPeter has negotiated hundreds of IT\, eCommerce\, and Cybersecurity contracts and had trials around the US on unsuccessful software implementations\, misappropriation of trade secrets\, copyright infringement\, software patent infringement\, and eCommerce Internet disputes. In June 2023 Peter was one of 7 lawyers (out of 113\,000 lawyers in Texas) appointed to the State Bar of Texas AI Work Group\, and in June 2025 Peter was one of 20 lawyers appointed to the new State Bar of Texas Emerging Technology Committee. \nFor more than 30 years Peter has been an Arbitrator and Mediator with the American Arbitration Association\, and a Tech List Member of the Silicon Valley Arbitration & Mediation Center. Currently Peter is the General Counsel of the North Texas Information Systems Security Association a Cybersecurity Training Group and he is also a Fellow of the Society for Information Management -Dallas/Fort Worth Chapter a CIO Group. \nFor 12 years Peter served as the Founding Chair of the Texas Supreme Court Judicial Committee on Information Technology which is responsible for helping automate the Texas court system and creating the Texas eFiling System. \nPeter has taught courses at the SMU Dedman School of Law for more than 25 years including courses on eDiscovery and the Law of eCommerce. Many of Peter’s topics are discussed on his Internet\, IT & E-Discovery blog www.vogelitlaw.com/blog. \n  \nGeorge Trujillo\nGeorge Trujillo is a recognized industry leader in driving measurable business value through data and AI governance. With deep experience aligning executive vision and building business champions\, he helps organizations transform governance from a control function into a catalyst for innovation and enterprise trust. George currently leads business value engagements across North America for Collibra\, an industry leader in data and AI governance\, unstructured AI\, data cataloging\, lineage\, observability\, and quality. \nFor the last 17 years\, George has been responsible for large-scale data and AI initiatives across financial services\, e-commerce\, and marketing technology as the senior executive responsible for the initiatives\, the enterprise global architect responsible for technical delivery or as a specialist in business value. He is known for connecting strategy\, architecture\, and business outcomes to help enterprises govern data and AI responsibly while accelerating digital transformation. \n  \nBlake Holman\, Managing Partner\, JJH Enterprises\, LLC\, SIM DigiRisk SIG Co-Chair\nBlake Holman is a seasoned Chief Information Officer with over two decades of executive experience leading digital transformation\, cybersecurity\,\nand technology strategy across multiple industries. He currently serves as the Chair of the DFW Society for Information Management (SIM) Board\, and has long been recognized as a collaborative leader and mentor within the technology community. Beyond the boardroom\, Blake has a strong record of service and leadership in both professional and community organizations. He is a former President of the Dallas Rugby Football Club and serves on numerous non-profit and volunteer boards\, consistently demonstrating his commitment to developing people and advancing organizational excellence. Blake is a Cialdini Certified Influence Practitioner\, Coach\, and Trainer\, credentialed by the Cialdini Institute\, where he helps leaders apply the science of ethical influence to drive alignment\, engagement\, and results. He is also a Maxwell Certified Team Member and DISC Consultant\, leveraging John Maxwell’s proven leadership frameworks and behavioral communication models to help executives and teams elevate their effectiveness. Blake combines the rigor of an IT executive with the heart of a teacher — helping leaders communicate with clarity\, influence ethically\, and lead with integrity in an era of constant change. \n  \nCOST TO ATTEND:\nFree for SIM Members.\n$30 for Non-Members.\nEmployees of SIM Members are welcome to attend for free – please email digirisk@simnet.org for a promo code to register. \nPlease sign in to receive member pricing for you and your staff. \nATTENDEE SUPPORT:\nIf you have trouble registering or need to renew your SIM membership\, please email sim@simnet.org.If you require special assistance of any kind\, please call us at 800.387.9746 or email us at digirisk@simnet.org. \n  \nREGISTER HERE
URL:https://njsim.org/event/sim-digirisk-sig-stop-explaining-ai-governance-start-proving-its-value/
CATEGORIES:Member Event,Webinar
ATTACH;FMTTYPE=image/png:https://njsim.org/wp-content/uploads/2025/11/DigiRisk_Dec_2025.png
END:VEVENT
BEGIN:VEVENT
DTSTART;TZID=America/New_York:20251211T120000
DTEND;TZID=America/New_York:20251211T130000
DTSTAMP:20260424T193747
CREATED:20251121T201313Z
LAST-MODIFIED:20251121T201943Z
UID:21460-1765454400-1765458000@njsim.org
SUMMARY:ReThink Everything! SIG: Turning Cyber Risk into Boardroom Confidence
DESCRIPTION:When:\nThursday\, December 11th\n12:00 – 1:00pm ET \nWhere:\nVirtual\nUnited States \nContact:\nBill Waas\nbillw@simnet.org \n  \nTurning Cyber Risk into Boardroom Confidence: Quantifying risk in a way all stakeholders can understand\nToday’s boardrooms don’t just want to know if you’re secure—they want to know how cyber risk decisions drive business outcomes. Yet too often\, cybersecurity metrics stop at compliance checkboxes or technical jargon that fails to connect with strategy. \nThis discussion will explore how organizations can transform cyber governance and risk data into actionable intelligence that fuels better decision-making\, builds trust with leadership\, and creates measurable business advantage. \nWe’ll feature insights from a leading cyber governance expert\, a customer who’s operationalized these principles\, and a facilitator guiding the conversation through real-world challenges and solutions. \nAt the center of this discussion is Metrics that Matter — a practical framework and solution developed by Consortium Networks that helps CISOs\, risk leaders\, and boards speak the same language when it comes to cybersecurity performance and value. \n  \nREGISTER HERE
URL:https://njsim.org/event/rethink-everything-sig-turning-cyber-risk-into-boardroom-confidence/
CATEGORIES:Member Event,Webinar
ATTACH;FMTTYPE=image/gif:https://njsim.org/wp-content/uploads/2025/11/copy_of_sim_logotag_large_rg.gif
END:VEVENT
BEGIN:VEVENT
DTSTART;TZID=America/New_York:20251215T160000
DTEND;TZID=America/New_York:20251215T163000
DTSTAMP:20260424T193747
CREATED:20250829T204552Z
LAST-MODIFIED:20250829T205330Z
UID:19589-1765814400-1765816200@njsim.org
SUMMARY:SIM Membership Orientation Webinar
DESCRIPTION:[vc_row type=”in_container” full_screen_row_position=”middle” column_margin=”default” column_direction=”default” column_direction_tablet=”default” column_direction_phone=”default” scene_position=”center” text_color=”dark” text_align=”left” row_border_radius=”none” row_border_radius_applies=”bg” overlay_strength=”0.3″ gradient_direction=”left_to_right” shape_divider_position=”bottom” bg_image_animation=”none”][vc_column column_padding=”no-extra-padding” column_padding_tablet=”inherit” column_padding_phone=”inherit” column_padding_position=”all” column_element_spacing=”default” background_color_opacity=”1″ background_hover_color_opacity=”1″ column_shadow=”none” column_border_radius=”none” column_link_target=”_self” gradient_direction=”left_to_right” overlay_strength=”0.3″ width=”1/1″ tablet_width_inherit=”default” tablet_text_alignment=”default” phone_text_alignment=”default” bg_image_animation=”none” border_type=”simple” column_border_width=”none” column_border_style=”solid”][vc_column_text]\n\n\n\nHello\, New Members!  \nFirst and foremost\, thank you for being an essential part of the SIM Family!  \n  \nWe’re excited to invite you to our upcoming Member Orientation webinar\, where you can unlock the full potential of your membership. This is a fantastic opportunity to explore the networking and professional development programs available at both the Chapter and National levels.  \n  \nIt will be an open mic program\, where we will explore one SIM program in detail\, but more importantly\, we will answer your questions about any of the programs SIM offers.  \n  \nJoin your host\, Bill Waas – Director of Enterprise Memberships\, to learn how you can make the most of your SIM experience. We can’t wait to see you there! \n\n\n\n  \nREGISTER NOW![/vc_column_text][vc_column_text][/vc_column_text][/vc_column][/vc_row][vc_row type=”in_container” full_screen_row_position=”middle” column_margin=”default” column_direction=”default” column_direction_tablet=”default” column_direction_phone=”default” scene_position=”center” text_color=”dark” text_align=”left” row_border_radius=”none” row_border_radius_applies=”bg” overlay_strength=”0.3″ gradient_direction=”left_to_right” shape_divider_position=”bottom” bg_image_animation=”none”][vc_column column_padding=”no-extra-padding” column_padding_tablet=”inherit” column_padding_phone=”inherit” column_padding_position=”all” column_element_spacing=”default” background_color_opacity=”1″ background_hover_color_opacity=”1″ column_shadow=”none” column_border_radius=”none” column_link_target=”_self” gradient_direction=”left_to_right” overlay_strength=”0.3″ width=”1/1″ tablet_width_inherit=”default” tablet_text_alignment=”default” phone_text_alignment=”default” bg_image_animation=”none” border_type=”simple” column_border_width=”none” column_border_style=”solid”][vc_column_text][/vc_column_text][/vc_column][/vc_row]
URL:https://njsim.org/event/sim-membership-orientation-webinar-2/
LOCATION:Webinar
CATEGORIES:Member Event,Webinar
ATTACH;FMTTYPE=image/jpeg:https://njsim.org/wp-content/uploads/2025/08/sim_logo.jpg
END:VEVENT
BEGIN:VEVENT
DTSTART;TZID=America/New_York:20251222T130000
DTEND;TZID=America/New_York:20251222T140000
DTSTAMP:20260424T193747
CREATED:20250904T185832Z
LAST-MODIFIED:20250909T173359Z
UID:19659-1766408400-1766412000@njsim.org
SUMMARY:Members In Transition (M.I.T.) Videoconference
DESCRIPTION:[vc_row type=”in_container” full_screen_row_position=”middle” column_margin=”default” column_direction=”default” column_direction_tablet=”default” column_direction_phone=”default” scene_position=”center” text_color=”dark” text_align=”left” row_border_radius=”none” row_border_radius_applies=”bg” overlay_strength=”0.3″ gradient_direction=”left_to_right” shape_divider_position=”bottom” bg_image_animation=”none”][vc_column column_padding=”no-extra-padding” column_padding_tablet=”inherit” column_padding_phone=”inherit” column_padding_position=”all” column_element_spacing=”default” background_color_opacity=”1″ background_hover_color_opacity=”1″ column_shadow=”none” column_border_radius=”none” column_link_target=”_self” gradient_direction=”left_to_right” overlay_strength=”0.3″ width=”1/1″ tablet_width_inherit=”default” tablet_text_alignment=”default” phone_text_alignment=”default” bg_image_animation=”none” border_type=”simple” column_border_width=”none” column_border_style=”solid”][vc_row_inner column_margin=”default” column_direction=”default” column_direction_tablet=”default” column_direction_phone=”default” text_align=”left”][vc_column_inner column_padding=”no-extra-padding” column_padding_tablet=”inherit” column_padding_phone=”inherit” column_padding_position=”all” column_element_spacing=”default” background_color_opacity=”1″ background_hover_color_opacity=”1″ column_shadow=”none” column_border_radius=”none” column_link_target=”_self” gradient_direction=”left_to_right” overlay_strength=”0.3″ width=”1/2″ tablet_width_inherit=”default” bg_image_animation=”none” border_type=”simple” column_border_width=”none” column_border_style=”solid”][vc_column_text]\nAre you in transition? Are you thinking of changing positions? Is your company hiring? Then register for our meeting!  This meeting is open and complimentary to all members\, whether you are looking for a new position or want to help your colleagues.  \nLet us know if you are currently in transition so that we may keep you apprised of potential opportunities as we hear about them.  Email Mark Beatty or Giacomo Mascillaro\, the hosts of the meeting.\n\nMore information is available on the MIT message site and our information page.  Also\, check out SIM National’s database of I.T. executive jobs\, at careers.simnet.org.\nMeetings will be held every other Monday.  Schedule permitting\, we will be joined at most meetings by Dan Counts\, Certified Career Coach and co-leader of the West Coast SIM MIT chapter. \n\nTo register\, select your complimentary ticket below.  [/vc_column_text][/vc_column_inner][vc_column_inner column_padding=”no-extra-padding” column_padding_tablet=”inherit” column_padding_phone=”inherit” column_padding_position=”all” column_element_spacing=”default” background_color_opacity=”1″ background_hover_color_opacity=”1″ column_shadow=”none” column_border_radius=”none” column_link_target=”_self” gradient_direction=”left_to_right” overlay_strength=”0.3″ width=”1/2″ tablet_width_inherit=”default” bg_image_animation=”none” border_type=”simple” column_border_width=”none” column_border_style=”solid”][image_with_animation image_url=”9596″ animation=”None” hover_animation=”none” alignment=”” border_radius=”none” box_shadow=”none” image_loading=”default” max_width=”100%” max_width_mobile=”default”][/vc_column_inner][/vc_row_inner][/vc_column][/vc_row]
URL:https://njsim.org/event/members-in-transition-m-i-t-videoconference/2025-12-22/
LOCATION:Webinar
CATEGORIES:Member Event,Webinar
ATTACH;FMTTYPE=image/jpeg:https://njsim.org/wp-content/uploads/2023/03/Help-Support-Guidance-Assistance-scaled.jpeg
END:VEVENT
END:VCALENDAR