BEGIN:VCALENDAR
VERSION:2.0
PRODID:-//NJ Society for Information Management - ECPv6.15.18//NONSGML v1.0//EN
CALSCALE:GREGORIAN
METHOD:PUBLISH
X-ORIGINAL-URL:https://njsim.org
X-WR-CALDESC:Events for NJ Society for Information Management
REFRESH-INTERVAL;VALUE=DURATION:PT1H
X-Robots-Tag:noindex
X-PUBLISHED-TTL:PT1H
BEGIN:VTIMEZONE
TZID:America/New_York
BEGIN:DAYLIGHT
TZOFFSETFROM:-0500
TZOFFSETTO:-0400
TZNAME:EDT
DTSTART:20240310T070000
END:DAYLIGHT
BEGIN:STANDARD
TZOFFSETFROM:-0400
TZOFFSETTO:-0500
TZNAME:EST
DTSTART:20241103T060000
END:STANDARD
BEGIN:DAYLIGHT
TZOFFSETFROM:-0500
TZOFFSETTO:-0400
TZNAME:EDT
DTSTART:20250309T070000
END:DAYLIGHT
BEGIN:STANDARD
TZOFFSETFROM:-0400
TZOFFSETTO:-0500
TZNAME:EST
DTSTART:20251102T060000
END:STANDARD
BEGIN:DAYLIGHT
TZOFFSETFROM:-0500
TZOFFSETTO:-0400
TZNAME:EDT
DTSTART:20260308T070000
END:DAYLIGHT
BEGIN:STANDARD
TZOFFSETFROM:-0400
TZOFFSETTO:-0500
TZNAME:EST
DTSTART:20261101T060000
END:STANDARD
END:VTIMEZONE
BEGIN:VEVENT
DTSTART;TZID=America/New_York:20251119T120000
DTEND;TZID=America/New_York:20251119T130000
DTSTAMP:20260424T225452
CREATED:20250829T203912Z
LAST-MODIFIED:20250829T203912Z
UID:19583-1763553600-1763557200@njsim.org
SUMMARY:SIM "Rethink Everything" SIG: "Unleashing Innovation: How Robotics is Powering Digital Transformation"
DESCRIPTION:[vc_row type=”in_container” full_screen_row_position=”middle” column_margin=”default” column_direction=”default” column_direction_tablet=”default” column_direction_phone=”default” scene_position=”center” text_color=”dark” text_align=”left” row_border_radius=”none” row_border_radius_applies=”bg” overlay_strength=”0.3″ gradient_direction=”left_to_right” shape_divider_position=”bottom” bg_image_animation=”none”][vc_column column_padding=”no-extra-padding” column_padding_tablet=”inherit” column_padding_phone=”inherit” column_padding_position=”all” column_element_spacing=”default” background_color_opacity=”1″ background_hover_color_opacity=”1″ column_shadow=”none” column_border_radius=”none” column_link_target=”_self” gradient_direction=”left_to_right” overlay_strength=”0.3″ width=”1/1″ tablet_width_inherit=”default” tablet_text_alignment=”default” phone_text_alignment=”default” bg_image_animation=”none” border_type=”simple” column_border_width=”none” column_border_style=”solid”][vc_column_text]About the Session: \nJoin us for an inspiring webinar featuring Chad Wright\, Chief Information Officer at Boston Dynamics —one of the world’s leading robotics innovators. With a proven track record as an award-winning IT executive and digital transformation leader\, Chad brings deep expertise in leveraging technology to drive business results and foster creative problem-solving. \n  \nAre you ready to unlock the next level of innovation in your organization? Chad Wright will guide you through how robotics and IoT are revolutionizing digital transformation across industries. \n  \nDiscover how forward-thinking companies are overcoming challenges like labor shortages\, outdated equipment\, and worker safety concerns by embracing cutting-edge robotics solutions. Learn how these technologies are streamlining data capture and management\, while opening new possibilities for growth. \n  \nWhat You’ll Experience: \n\nReal-World Success Stories: See how robotics automation is making a difference in manufacturing\, industrial inspection\, and beyond.\n\n\nInnovative Strategies: Find out how deploying robotics can free up your team to focus on high-impact tasks\, while robots handle hazardous or repetitive work.\n\n\nActionable Insights: Gain practical tips from Chad Wright for integrating robotics into your digital transformation journey and maximizing your organization’s potential.\n\n  \nWhether you’re a business leader\, innovator\, or tech enthusiast\, this session with Chad Wright will show you how robotics can become a powerful ally in your quest for operational excellence and transformational growth. \n  \nDon’t miss this opportunity to reimagine what’s possible—register now and be part of the future of digital transformation! \n  \nSpeaker: \n \nChad Wright \nChief Information Officer (CIO) \nBostonDynamics \n  \nCOST TO ATTEND: \n\nFree for SIM Members. \n\nEmployees of SIM Members are welcome to attend for free\n\n\n  \nATTENDEE SUPPORT: \nIf you have trouble registering or need to renew your SIM membership\, please email sim@simnet.org. \nIf you require special assistance of any kind\, please call us at 800.387.9746 or email us at rethink@simnet.org. \n  \nRegister here\n[/vc_column_text][vc_column_text][/vc_column_text][/vc_column][/vc_row][vc_row type=”in_container” full_screen_row_position=”middle” column_margin=”default” column_direction=”default” column_direction_tablet=”default” column_direction_phone=”default” scene_position=”center” text_color=”dark” text_align=”left” row_border_radius=”none” row_border_radius_applies=”bg” overlay_strength=”0.3″ gradient_direction=”left_to_right” shape_divider_position=”bottom” bg_image_animation=”none”][vc_column column_padding=”no-extra-padding” column_padding_tablet=”inherit” column_padding_phone=”inherit” column_padding_position=”all” column_element_spacing=”default” background_color_opacity=”1″ background_hover_color_opacity=”1″ column_shadow=”none” column_border_radius=”none” column_link_target=”_self” gradient_direction=”left_to_right” overlay_strength=”0.3″ width=”1/1″ tablet_width_inherit=”default” tablet_text_alignment=”default” phone_text_alignment=”default” bg_image_animation=”none” border_type=”simple” column_border_width=”none” column_border_style=”solid”][vc_column_text][/vc_column_text][/vc_column][/vc_row]
URL:https://njsim.org/event/sim-rethink-everything-sig-unleashing-innovation-how-robotics-is-powering-digital-transformation/
LOCATION:Webinar
CATEGORIES:Member Event,Webinar
ATTACH;FMTTYPE=image/jpeg:https://njsim.org/wp-content/uploads/2025/08/RTE_Webinar_-_Nov_19_2025.jpg
END:VEVENT
END:VCALENDAR