BEGIN:VCALENDAR
VERSION:2.0
PRODID:-//NJ Society for Information Management - ECPv6.15.18//NONSGML v1.0//EN
CALSCALE:GREGORIAN
METHOD:PUBLISH
X-ORIGINAL-URL:https://njsim.org
X-WR-CALDESC:Events for NJ Society for Information Management
REFRESH-INTERVAL;VALUE=DURATION:PT1H
X-Robots-Tag:noindex
X-PUBLISHED-TTL:PT1H
BEGIN:VTIMEZONE
TZID:America/New_York
BEGIN:DAYLIGHT
TZOFFSETFROM:-0500
TZOFFSETTO:-0400
TZNAME:EDT
DTSTART:20230312T070000
END:DAYLIGHT
BEGIN:STANDARD
TZOFFSETFROM:-0400
TZOFFSETTO:-0500
TZNAME:EST
DTSTART:20231105T060000
END:STANDARD
BEGIN:DAYLIGHT
TZOFFSETFROM:-0500
TZOFFSETTO:-0400
TZNAME:EDT
DTSTART:20240310T070000
END:DAYLIGHT
BEGIN:STANDARD
TZOFFSETFROM:-0400
TZOFFSETTO:-0500
TZNAME:EST
DTSTART:20241103T060000
END:STANDARD
BEGIN:DAYLIGHT
TZOFFSETFROM:-0500
TZOFFSETTO:-0400
TZNAME:EDT
DTSTART:20250309T070000
END:DAYLIGHT
BEGIN:STANDARD
TZOFFSETFROM:-0400
TZOFFSETTO:-0500
TZNAME:EST
DTSTART:20251102T060000
END:STANDARD
END:VTIMEZONE
BEGIN:VEVENT
DTSTART;TZID=America/New_York:20241010T173000
DTEND;TZID=America/New_York:20241010T203000
DTSTAMP:20260425T192555
CREATED:20240808T223934Z
LAST-MODIFIED:20240911T120239Z
UID:13869-1728581400-1728592200@njsim.org
SUMMARY:October 2024 Monthly Meeting
DESCRIPTION:[vc_row type=”in_container” full_screen_row_position=”middle” column_margin=”default” column_direction=”default” column_direction_tablet=”default” column_direction_phone=”default” scene_position=”center” text_color=”dark” text_align=”left” row_border_radius=”none” row_border_radius_applies=”bg” overlay_strength=”0.3″ gradient_direction=”left_to_right” shape_divider_position=”bottom” bg_image_animation=”none”][vc_column column_padding=”no-extra-padding” column_padding_tablet=”inherit” column_padding_phone=”inherit” column_padding_position=”all” column_element_spacing=”default” background_color_opacity=”1″ background_hover_color_opacity=”1″ column_shadow=”none” column_border_radius=”none” column_link_target=”_self” gradient_direction=”left_to_right” overlay_strength=”0.3″ width=”1/2″ tablet_width_inherit=”default” tablet_text_alignment=”default” phone_text_alignment=”default” bg_image_animation=”none” border_type=”simple” column_border_width=”none” column_border_style=”solid”][image_with_animation image_url=”14365″ animation=”Fade In” hover_animation=”none” alignment=”” border_radius=”none” box_shadow=”none” image_loading=”default” max_width=”100%” max_width_mobile=”default”][/vc_column][vc_column column_padding=”no-extra-padding” column_padding_tablet=”inherit” column_padding_phone=”inherit” column_padding_position=”all” column_element_spacing=”default” background_color_opacity=”1″ background_hover_color_opacity=”1″ column_shadow=”none” column_border_radius=”none” column_link_target=”_self” gradient_direction=”left_to_right” overlay_strength=”0.3″ width=”1/2″ tablet_width_inherit=”default” tablet_text_alignment=”default” phone_text_alignment=”default” bg_image_animation=”none” border_type=”simple” column_border_width=”none” column_border_style=”solid”][nectar_gradient_text heading_tag=”h2″ color=”extra-color-gradient-2″ gradient_direction=”diagonal” text=”Legal Implications of AI”][vc_column_text]AI deployments are gaining traction in businesses around the world. They are also gaining traction within the halls of governments with the implementation of the EU AI Act as of Aug 1\, 2024\, and numerous States also forming Task Forces and Committees exploring regulations. Join us on Oct 10\, 2024 for an insightful panel session\, sponsored by Robert Half\, as we delve into the legal implications of AI. Our expert panelists will explore the evolving legal landscape surrounding AI technologies\, discussing critical issues such as compliance\, data privacy\, and ethical considerations. Gain valuable insights into how AI is reshaping the technology field and what businesses need to know to navigate this rapidly changing environment.[/vc_column_text][vc_column_text]\nEvent Sponsor\n[/vc_column_text][/vc_column][/vc_row][vc_row type=”in_container” full_screen_row_position=”middle” column_margin=”default” column_direction=”default” column_direction_tablet=”default” column_direction_phone=”default” scene_position=”center” text_color=”dark” text_align=”left” row_border_radius=”none” row_border_radius_applies=”bg” overlay_strength=”0.3″ gradient_direction=”left_to_right” shape_divider_position=”bottom” bg_image_animation=”none”][vc_column column_padding=”no-extra-padding” column_padding_tablet=”inherit” column_padding_phone=”inherit” column_padding_position=”all” column_element_spacing=”default” background_color_opacity=”1″ background_hover_color_opacity=”1″ column_shadow=”none” column_border_radius=”none” column_link_target=”_self” gradient_direction=”left_to_right” overlay_strength=”0.3″ width=”1/1″ tablet_width_inherit=”default” tablet_text_alignment=”default” phone_text_alignment=”default” bg_image_animation=”none” border_type=”simple” column_border_width=”none” column_border_style=”solid”][vc_column_text]\nOur Speakers\n[/vc_column_text][vc_column_text]\nTyler Bryk\nLinkedIn\nEmpowering people to use AI responsibly is what drives Tyler Bryk in his role as Head of Artificial Intelligence at PTC Therapeutics\, Inc. Tyler joined PTC in 2018\, after attending graduate school in the field of Applied Artificial Intelligence at Stevens Institute of Technology. His time at Stevens prepared him for his role at PTC\, where he founded and currently leads the AI & Machine Learning department. Through Tyler’s vision\, the PTC AI & ML team strives to create innovative AI solutions that aid in delivering best in-class biotech\, with a core focus being on AI-enhanced drug discovery\, and clinical trial optimization. Throughout his journey at PTC\, Tyler has paved the way for others aspiring to be leaders in the AI space. He has played a part in numerous initiatives\, including his most recent endeavor of creating PTC’s Responsible AI Committee\, which brought together a group of cross-functional executives to discuss and promote the ethical use of AI. Tyler also sits on BioNJ’s AI & Digital Health committee and has served as a trusted advisor to various subgroups of NJ Governor Phil Murphy’s AI Task Force.[/vc_column_text][vc_column_text]\nDr. Robert Spangler\nLinkedIn\nDr. Robert Spangler currently serves as the CISO of the NJ State Bar Association\, is the Co-Chair of the NJSBA’s AI Taskforce and a member of the New Jersey Supreme Court’s Committee on Artificial Intelligence. He holds a Doctorate is in Business Administration and recently completed his Cybersecurity Certification from MIT.[/vc_column_text][vc_column_text]\nElijah Low\nLinkedIn\nElijah Low is an experienced entrepreneur with a demonstrated history of providing solutions across high tech\, economic development and public-private partnerships.  He is also the CEO of AI Matrix Solutions where he provides organizations with a roadmap for the use of AI  and the author of Amazon’s best-seller\, “Navigating AI with Faith.”[/vc_column_text][vc_column_text]\nModerator\n[/vc_column_text][vc_column_text]\nChris Tyrrell \nLinkedIn\nChris is a Senior Financial Services Executive with expertise in managing risk from digital asset activities in traditional financial institutions and crypto-native businesses. His expertise spans Operational Risk\, Enterprise Risk\, Compliance\, Data Governance\, Automation\, Change Management\, Data Privacy\, Data Protection\, Robotic Process Automation (RPA)\, Artificial Intelligence\, Machine Learning\, Platform and Systems Development. Chris also holds his JD from the University of Virginia and is completing his master’s degree at the University of Oxford in Practical Ethics\, focused on AI and Data Ethics.[/vc_column_text][/vc_column][/vc_row][vc_row type=”in_container” full_screen_row_position=”middle” column_margin=”default” column_direction=”default” column_direction_tablet=”default” column_direction_phone=”default” scene_position=”center” text_color=”dark” text_align=”left” row_border_radius=”none” row_border_radius_applies=”bg” overlay_strength=”0.3″ gradient_direction=”left_to_right” shape_divider_position=”bottom” bg_image_animation=”none”][vc_column column_padding=”no-extra-padding” column_padding_tablet=”inherit” column_padding_phone=”inherit” column_padding_position=”all” column_element_spacing=”default” background_color_opacity=”1″ background_hover_color_opacity=”1″ column_shadow=”none” column_border_radius=”none” column_link_target=”_self” gradient_direction=”left_to_right” overlay_strength=”0.3″ width=”1/1″ tablet_width_inherit=”default” tablet_text_alignment=”default” phone_text_alignment=”default” bg_image_animation=”none” border_type=”simple” column_border_width=”none” column_border_style=”solid”][vc_custom_heading text=”Agenda” font_container=”tag:h2|text_align:left|color:%23005b94″ use_theme_fonts=”yes”][vc_column_text]5:30     Registration and Networking\n6:15     Dinner\n6:45     Business Meeting\n7:00     Presentation and Q&A\n8:00     Networking[/vc_column_text][/vc_column][/vc_row][vc_row type=”in_container” full_screen_row_position=”middle” column_margin=”default” column_direction=”default” column_direction_tablet=”default” column_direction_phone=”default” scene_position=”center” text_color=”dark” text_align=”left” row_border_radius=”none” row_border_radius_applies=”bg” overlay_strength=”0.3″ gradient_direction=”left_to_right” shape_divider_position=”bottom” bg_image_animation=”none”][vc_column column_padding=”no-extra-padding” column_padding_tablet=”inherit” column_padding_phone=”inherit” column_padding_position=”all” column_element_spacing=”default” background_color_opacity=”1″ background_hover_color_opacity=”1″ column_shadow=”none” column_border_radius=”none” column_link_target=”_self” gradient_direction=”left_to_right” overlay_strength=”0.3″ width=”1/1″ tablet_width_inherit=”default” tablet_text_alignment=”default” phone_text_alignment=”default” bg_image_animation=”none” border_type=”simple” column_border_width=”none” column_border_style=”solid”][vc_column_text]Please register for the event below.\nPlease note that registration at the event will be $85.00 for members.[/vc_column_text][/vc_column][/vc_row]
URL:https://njsim.org/event/october-2024-monthly-meeting/
LOCATION:Madison Hotel\, 1 Convent Road\, Morristown\, NJ\, United States
CATEGORIES:Member Event,Monthly Meeting
ATTACH;FMTTYPE=image/png:https://njsim.org/wp-content/uploads/2024/08/AIgovt-e1726024150936.png
END:VEVENT
BEGIN:VEVENT
DTSTART;TZID=America/New_York:20241010T203000
DTEND;TZID=America/New_York:20241010T210000
DTSTAMP:20260425T192555
CREATED:20241021T151718Z
LAST-MODIFIED:20241021T232411Z
UID:14654-1728592200-1728594000@njsim.org
SUMMARY:Members In Transition (M.I.T.) In-Person Meeting - 2024-10-10
DESCRIPTION:[vc_row type=”in_container” full_screen_row_position=”middle” column_margin=”default” column_direction=”default” column_direction_tablet=”default” column_direction_phone=”default” scene_position=”center” text_color=”dark” text_align=”left” row_border_radius=”none” row_border_radius_applies=”bg” overlay_strength=”0.3″ gradient_direction=”left_to_right” shape_divider_position=”bottom” bg_image_animation=”none”][vc_column column_padding=”no-extra-padding” column_padding_tablet=”inherit” column_padding_phone=”inherit” column_padding_position=”all” column_element_spacing=”default” background_color_opacity=”1″ background_hover_color_opacity=”1″ column_shadow=”none” column_border_radius=”none” column_link_target=”_self” gradient_direction=”left_to_right” overlay_strength=”0.3″ width=”1/1″ tablet_width_inherit=”default” tablet_text_alignment=”default” phone_text_alignment=”default” bg_image_animation=”none” border_type=”simple” column_border_width=”none” column_border_style=”solid”][vc_row_inner column_margin=”default” column_direction=”default” column_direction_tablet=”default” column_direction_phone=”default” text_align=”left”][vc_column_inner column_padding=”no-extra-padding” column_padding_tablet=”inherit” column_padding_phone=”inherit” column_padding_position=”all” column_element_spacing=”default” background_color_opacity=”1″ background_hover_color_opacity=”1″ column_shadow=”none” column_border_radius=”none” column_link_target=”_self” gradient_direction=”left_to_right” overlay_strength=”0.3″ width=”1/2″ tablet_width_inherit=”default” bg_image_animation=”none” border_type=”simple” column_border_width=”none” column_border_style=”solid”][vc_column_text]\nAre you in transition? Are you thinking of changing positions? Is your company hiring? Then register for our meeting!  This meeting is open and complimentary to all members\, whether you are looking for a new position or want to help your colleagues.  \nLet us know if you are currently in transition so that we may keep you apprised of potential opportunities as we hear about them.  Email Mark Beatty or Giacomo Mascillaro\, the hosts of the meeting.\n\nMore information is available on the MIT message site and our information page.  Also\, check out SIM National’s database of I.T. executive jobs\, at careers.simnet.org.\nMeetings will be held every other Monday.  Schedule permitting\, we will be joined at most meetings by Dan Counts\, Certified Career Coach and co-leader of the West Coast SIM MIT chapter. \n\nTo register\, select your complimentary ticket below.  [/vc_column_text][/vc_column_inner][vc_column_inner column_padding=”no-extra-padding” column_padding_tablet=”inherit” column_padding_phone=”inherit” column_padding_position=”all” column_element_spacing=”default” background_color_opacity=”1″ background_hover_color_opacity=”1″ column_shadow=”none” column_border_radius=”none” column_link_target=”_self” gradient_direction=”left_to_right” overlay_strength=”0.3″ width=”1/2″ tablet_width_inherit=”default” bg_image_animation=”none” border_type=”simple” column_border_width=”none” column_border_style=”solid”][image_with_animation image_url=”9596″ animation=”None” hover_animation=”none” alignment=”” border_radius=”none” box_shadow=”none” image_loading=”default” max_width=”100%” max_width_mobile=”default”][/vc_column_inner][/vc_row_inner][/vc_column][/vc_row]
URL:https://njsim.org/event/members-in-transition-m-i-t-meeting-2024-10-10/
LOCATION:Madison Hotel\, 1 Convent Road\, Morristown\, NJ\, United States
CATEGORIES:Member Event,Webinar
ATTACH;FMTTYPE=image/jpeg:https://njsim.org/wp-content/uploads/2023/03/Help-Support-Guidance-Assistance-scaled.jpeg
END:VEVENT
BEGIN:VEVENT
DTSTART;TZID=America/New_York:20241010T203000
DTEND;TZID=America/New_York:20241010T210000
DTSTAMP:20260425T192555
CREATED:20250804T152915Z
LAST-MODIFIED:20250804T152915Z
UID:19411-1728592200-1728594000@njsim.org
SUMMARY:Members In Transition (M.I.T.) In-Person Meeting - 2025-11-10
DESCRIPTION:[vc_row type=”in_container” full_screen_row_position=”middle” column_margin=”default” column_direction=”default” column_direction_tablet=”default” column_direction_phone=”default” scene_position=”center” text_color=”dark” text_align=”left” row_border_radius=”none” row_border_radius_applies=”bg” overlay_strength=”0.3″ gradient_direction=”left_to_right” shape_divider_position=”bottom” bg_image_animation=”none”][vc_column column_padding=”no-extra-padding” column_padding_tablet=”inherit” column_padding_phone=”inherit” column_padding_position=”all” column_element_spacing=”default” background_color_opacity=”1″ background_hover_color_opacity=”1″ column_shadow=”none” column_border_radius=”none” column_link_target=”_self” gradient_direction=”left_to_right” overlay_strength=”0.3″ width=”1/1″ tablet_width_inherit=”default” tablet_text_alignment=”default” phone_text_alignment=”default” bg_image_animation=”none” border_type=”simple” column_border_width=”none” column_border_style=”solid”][vc_row_inner column_margin=”default” column_direction=”default” column_direction_tablet=”default” column_direction_phone=”default” text_align=”left”][vc_column_inner column_padding=”no-extra-padding” column_padding_tablet=”inherit” column_padding_phone=”inherit” column_padding_position=”all” column_element_spacing=”default” background_color_opacity=”1″ background_hover_color_opacity=”1″ column_shadow=”none” column_border_radius=”none” column_link_target=”_self” gradient_direction=”left_to_right” overlay_strength=”0.3″ width=”1/2″ tablet_width_inherit=”default” bg_image_animation=”none” border_type=”simple” column_border_width=”none” column_border_style=”solid”][vc_column_text]\nAre you in transition? Are you thinking of changing positions? Is your company hiring? Then register for our meeting!  This meeting is open and complimentary to all members\, whether you are looking for a new position or want to help your colleagues.  \nLet us know if you are currently in transition so that we may keep you apprised of potential opportunities as we hear about them.  Email Mark Beatty or Giacomo Mascillaro\, the hosts of the meeting.\n\nMore information is available on the MIT message site and our information page.  Also\, check out SIM National’s database of I.T. executive jobs\, at careers.simnet.org.\nMeetings will be held every other Monday.  Schedule permitting\, we will be joined at most meetings by Dan Counts\, Certified Career Coach and co-leader of the West Coast SIM MIT chapter. \n\nTo register\, select your complimentary ticket below.  [/vc_column_text][/vc_column_inner][vc_column_inner column_padding=”no-extra-padding” column_padding_tablet=”inherit” column_padding_phone=”inherit” column_padding_position=”all” column_element_spacing=”default” background_color_opacity=”1″ background_hover_color_opacity=”1″ column_shadow=”none” column_border_radius=”none” column_link_target=”_self” gradient_direction=”left_to_right” overlay_strength=”0.3″ width=”1/2″ tablet_width_inherit=”default” bg_image_animation=”none” border_type=”simple” column_border_width=”none” column_border_style=”solid”][image_with_animation image_url=”9596″ animation=”None” hover_animation=”none” alignment=”” border_radius=”none” box_shadow=”none” image_loading=”default” max_width=”100%” max_width_mobile=”default”][/vc_column_inner][/vc_row_inner][/vc_column][/vc_row]
URL:https://njsim.org/event/members-in-transition-m-i-t-in-person-meeting-2025-11-10/
LOCATION:Madison Hotel\, 1 Convent Road\, Morristown\, NJ\, United States
CATEGORIES:Member Event,Webinar
ATTACH;FMTTYPE=image/jpeg:https://njsim.org/wp-content/uploads/2023/03/Help-Support-Guidance-Assistance-scaled.jpeg
END:VEVENT
BEGIN:VEVENT
DTSTART;TZID=America/New_York:20241014T130000
DTEND;TZID=America/New_York:20241014T140000
DTSTAMP:20260425T192555
CREATED:20240710T020508Z
LAST-MODIFIED:20240710T020509Z
UID:13361-1728910800-1728914400@njsim.org
SUMMARY:Members In Transition (M.I.T.) Meeting - 2024-10-14
DESCRIPTION:[vc_row type=”in_container” full_screen_row_position=”middle” column_margin=”default” column_direction=”default” column_direction_tablet=”default” column_direction_phone=”default” scene_position=”center” text_color=”dark” text_align=”left” row_border_radius=”none” row_border_radius_applies=”bg” overlay_strength=”0.3″ gradient_direction=”left_to_right” shape_divider_position=”bottom” bg_image_animation=”none”][vc_column column_padding=”no-extra-padding” column_padding_tablet=”inherit” column_padding_phone=”inherit” column_padding_position=”all” column_element_spacing=”default” background_color_opacity=”1″ background_hover_color_opacity=”1″ column_shadow=”none” column_border_radius=”none” column_link_target=”_self” gradient_direction=”left_to_right” overlay_strength=”0.3″ width=”1/1″ tablet_width_inherit=”default” tablet_text_alignment=”default” phone_text_alignment=”default” bg_image_animation=”none” border_type=”simple” column_border_width=”none” column_border_style=”solid”][vc_row_inner column_margin=”default” column_direction=”default” column_direction_tablet=”default” column_direction_phone=”default” text_align=”left”][vc_column_inner column_padding=”no-extra-padding” column_padding_tablet=”inherit” column_padding_phone=”inherit” column_padding_position=”all” column_element_spacing=”default” background_color_opacity=”1″ background_hover_color_opacity=”1″ column_shadow=”none” column_border_radius=”none” column_link_target=”_self” gradient_direction=”left_to_right” overlay_strength=”0.3″ width=”1/2″ tablet_width_inherit=”default” bg_image_animation=”none” border_type=”simple” column_border_width=”none” column_border_style=”solid”][vc_column_text]\nAre you in transition? Are you thinking of changing positions? Is your company hiring? Then register for our meeting!  This meeting is open and complimentary to all members\, whether you are looking for a new position or want to help your colleagues.  \nLet us know if you are currently in transition so that we may keep you apprised of potential opportunities as we hear about them.  Email Mark Beatty or Giacomo Mascillaro\, the hosts of the meeting.\n\nMore information is available on the MIT message site and our information page.  Also\, check out SIM National’s database of I.T. executive jobs\, at careers.simnet.org.\nMeetings will be held every other Monday.  Schedule permitting\, we will be joined at most meetings by Dan Counts\, Certified Career Coach and co-leader of the West Coast SIM MIT chapter. \n\nTo register\, select your complimentary ticket below.  [/vc_column_text][/vc_column_inner][vc_column_inner column_padding=”no-extra-padding” column_padding_tablet=”inherit” column_padding_phone=”inherit” column_padding_position=”all” column_element_spacing=”default” background_color_opacity=”1″ background_hover_color_opacity=”1″ column_shadow=”none” column_border_radius=”none” column_link_target=”_self” gradient_direction=”left_to_right” overlay_strength=”0.3″ width=”1/2″ tablet_width_inherit=”default” bg_image_animation=”none” border_type=”simple” column_border_width=”none” column_border_style=”solid”][image_with_animation image_url=”9596″ animation=”None” hover_animation=”none” alignment=”” border_radius=”none” box_shadow=”none” image_loading=”default” max_width=”100%” max_width_mobile=”default”][/vc_column_inner][/vc_row_inner][/vc_column][/vc_row]
URL:https://njsim.org/event/members-in-transition-m-i-t-meeting-2024-10-14/
LOCATION:Webinar
CATEGORIES:Member Event,Webinar
ATTACH;FMTTYPE=image/jpeg:https://njsim.org/wp-content/uploads/2023/03/Help-Support-Guidance-Assistance-scaled.jpeg
END:VEVENT
BEGIN:VEVENT
DTSTART;TZID=America/New_York:20241028T130000
DTEND;TZID=America/New_York:20241028T140000
DTSTAMP:20260425T192555
CREATED:20240710T020903Z
LAST-MODIFIED:20240710T020903Z
UID:13366-1730120400-1730124000@njsim.org
SUMMARY:Members In Transition (M.I.T.) Meeting - 2024-10-28
DESCRIPTION:[vc_row type=”in_container” full_screen_row_position=”middle” column_margin=”default” column_direction=”default” column_direction_tablet=”default” column_direction_phone=”default” scene_position=”center” text_color=”dark” text_align=”left” row_border_radius=”none” row_border_radius_applies=”bg” overlay_strength=”0.3″ gradient_direction=”left_to_right” shape_divider_position=”bottom” bg_image_animation=”none”][vc_column column_padding=”no-extra-padding” column_padding_tablet=”inherit” column_padding_phone=”inherit” column_padding_position=”all” column_element_spacing=”default” background_color_opacity=”1″ background_hover_color_opacity=”1″ column_shadow=”none” column_border_radius=”none” column_link_target=”_self” gradient_direction=”left_to_right” overlay_strength=”0.3″ width=”1/1″ tablet_width_inherit=”default” tablet_text_alignment=”default” phone_text_alignment=”default” bg_image_animation=”none” border_type=”simple” column_border_width=”none” column_border_style=”solid”][vc_row_inner column_margin=”default” column_direction=”default” column_direction_tablet=”default” column_direction_phone=”default” text_align=”left”][vc_column_inner column_padding=”no-extra-padding” column_padding_tablet=”inherit” column_padding_phone=”inherit” column_padding_position=”all” column_element_spacing=”default” background_color_opacity=”1″ background_hover_color_opacity=”1″ column_shadow=”none” column_border_radius=”none” column_link_target=”_self” gradient_direction=”left_to_right” overlay_strength=”0.3″ width=”1/2″ tablet_width_inherit=”default” bg_image_animation=”none” border_type=”simple” column_border_width=”none” column_border_style=”solid”][vc_column_text]\nAre you in transition? Are you thinking of changing positions? Is your company hiring? Then register for our meeting!  This meeting is open and complimentary to all members\, whether you are looking for a new position or want to help your colleagues.  \nLet us know if you are currently in transition so that we may keep you apprised of potential opportunities as we hear about them.  Email Mark Beatty or Giacomo Mascillaro\, the hosts of the meeting.\n\nMore information is available on the MIT message site and our information page.  Also\, check out SIM National’s database of I.T. executive jobs\, at careers.simnet.org.\nMeetings will be held every other Monday.  Schedule permitting\, we will be joined at most meetings by Dan Counts\, Certified Career Coach and co-leader of the West Coast SIM MIT chapter. \n\nTo register\, select your complimentary ticket below.  [/vc_column_text][/vc_column_inner][vc_column_inner column_padding=”no-extra-padding” column_padding_tablet=”inherit” column_padding_phone=”inherit” column_padding_position=”all” column_element_spacing=”default” background_color_opacity=”1″ background_hover_color_opacity=”1″ column_shadow=”none” column_border_radius=”none” column_link_target=”_self” gradient_direction=”left_to_right” overlay_strength=”0.3″ width=”1/2″ tablet_width_inherit=”default” bg_image_animation=”none” border_type=”simple” column_border_width=”none” column_border_style=”solid”][image_with_animation image_url=”9596″ animation=”None” hover_animation=”none” alignment=”” border_radius=”none” box_shadow=”none” image_loading=”default” max_width=”100%” max_width_mobile=”default”][/vc_column_inner][/vc_row_inner][/vc_column][/vc_row]
URL:https://njsim.org/event/members-in-transition-m-i-t-meeting-2024-10-28/
LOCATION:Webinar
CATEGORIES:Member Event,Webinar
ATTACH;FMTTYPE=image/jpeg:https://njsim.org/wp-content/uploads/2023/03/Help-Support-Guidance-Assistance-scaled.jpeg
END:VEVENT
END:VCALENDAR