BEGIN:VCALENDAR
VERSION:2.0
PRODID:-//NJ Society for Information Management - ECPv6.15.18//NONSGML v1.0//EN
CALSCALE:GREGORIAN
METHOD:PUBLISH
X-WR-CALNAME:NJ Society for Information Management
X-ORIGINAL-URL:https://njsim.org
X-WR-CALDESC:Events for NJ Society for Information Management
REFRESH-INTERVAL;VALUE=DURATION:PT1H
X-Robots-Tag:noindex
X-PUBLISHED-TTL:PT1H
BEGIN:VTIMEZONE
TZID:America/New_York
BEGIN:DAYLIGHT
TZOFFSETFROM:-0500
TZOFFSETTO:-0400
TZNAME:EDT
DTSTART:20230312T070000
END:DAYLIGHT
BEGIN:STANDARD
TZOFFSETFROM:-0400
TZOFFSETTO:-0500
TZNAME:EST
DTSTART:20231105T060000
END:STANDARD
BEGIN:DAYLIGHT
TZOFFSETFROM:-0500
TZOFFSETTO:-0400
TZNAME:EDT
DTSTART:20240310T070000
END:DAYLIGHT
BEGIN:STANDARD
TZOFFSETFROM:-0400
TZOFFSETTO:-0500
TZNAME:EST
DTSTART:20241103T060000
END:STANDARD
BEGIN:DAYLIGHT
TZOFFSETFROM:-0500
TZOFFSETTO:-0400
TZNAME:EDT
DTSTART:20250309T070000
END:DAYLIGHT
BEGIN:STANDARD
TZOFFSETFROM:-0400
TZOFFSETTO:-0500
TZNAME:EST
DTSTART:20251102T060000
END:STANDARD
END:VTIMEZONE
BEGIN:VEVENT
DTSTART;TZID=America/New_York:20241208T170000
DTEND;TZID=America/New_York:20241208T210000
DTSTAMP:20260425T164018
CREATED:20241105T220049Z
LAST-MODIFIED:20241106T003356Z
UID:15137-1733677200-1733691600@njsim.org
SUMMARY:2024 Holiday Celebration
DESCRIPTION:[vc_row type=”in_container” full_screen_row_position=”middle” column_margin=”default” column_direction=”default” column_direction_tablet=”default” column_direction_phone=”default” scene_position=”center” text_color=”dark” text_align=”left” row_border_radius=”none” row_border_radius_applies=”bg” overlay_strength=”0.3″ gradient_direction=”left_to_right” shape_divider_position=”bottom” bg_image_animation=”none”][vc_column column_padding=”no-extra-padding” column_padding_tablet=”inherit” column_padding_phone=”inherit” column_padding_position=”all” column_element_spacing=”default” background_color_opacity=”1″ background_hover_color_opacity=”1″ column_shadow=”none” column_border_radius=”none” column_link_target=”_self” gradient_direction=”left_to_right” overlay_strength=”0.3″ width=”1/1″ tablet_width_inherit=”default” tablet_text_alignment=”default” phone_text_alignment=”default” bg_image_animation=”none” border_type=”simple” column_border_width=”none” column_border_style=”solid”][nectar_gradient_text heading_tag=”h2″ color=”extra-color-gradient-2″ gradient_direction=”diagonal” text=”Holiday Celebration: 12/08/2024 At The Madison Hotel!”][/vc_column][/vc_row][vc_row type=”in_container” full_screen_row_position=”middle” column_margin=”default” column_direction=”default” column_direction_tablet=”default” column_direction_phone=”default” scene_position=”center” text_color=”dark” text_align=”left” row_border_radius=”none” row_border_radius_applies=”bg” overlay_strength=”0.3″ gradient_direction=”left_to_right” shape_divider_position=”bottom” bg_image_animation=”none”][vc_column column_padding=”no-extra-padding” column_padding_tablet=”inherit” column_padding_phone=”inherit” column_padding_position=”all” column_element_spacing=”default” background_color_opacity=”1″ background_hover_color_opacity=”1″ column_shadow=”none” column_border_radius=”none” column_link_target=”_self” gradient_direction=”left_to_right” overlay_strength=”0.3″ width=”1/1″ tablet_width_inherit=”default” tablet_text_alignment=”default” phone_text_alignment=”default” bg_image_animation=”none” border_type=”simple” column_border_width=”none” column_border_style=”solid”][vc_custom_heading text=”” font_container=”tag:h2|text_align:left|color:%23005b94″ use_theme_fonts=”yes”][vc_column_text]\n\n?Join us at our flagship SOCIAL EVENT OF THE YEAR!?\nGet ready to ring in the season in style! We invite you to our annual Holiday Party on Sunday\, December 8\, 2024\, at The Madison Hotel. Enjoy an evening of festive cheer and delightful company in the elegant ambiance of one of Morristown’s finest venues. \n? Date: Sunday\, December 8\, 2024\n? Time: 5:00 PM – 9:00 PM\n? Location: The Madison Hotel\n? Cost: $110 per member plus guest \n? Entertainment: The evening will be filled with the soulful sounds of holiday jazz by the Adam Machaskee Quintet. From timeless holiday classics to jazzy renditions of your favorite seasonal songs\, their music will set the perfect backdrop for a memorable night. \n✨ Highlights:\nFestive cocktails and delicious bites\nLive jazz music to set the holiday mood\nBeautifully decorated surroundings\, capturing the magic of the season \nCome dressed to impress\, ready to celebrate the holidays with us! Don’t miss this festive occasion—bring friends\, colleagues\, and family to share in the joy of the season.[/vc_column_text][/vc_column][/vc_row]
URL:https://njsim.org/event/2024-holiday-celebration/
LOCATION:Madison Hotel\, 1 Convent Road\, Morristown\, NJ\, United States
CATEGORIES:Member Event,Monthly Meeting
ATTACH;FMTTYPE=image/jpeg:https://njsim.org/wp-content/uploads/2021/07/holiday-graphic_holly_final-web.jpg
END:VEVENT
BEGIN:VEVENT
DTSTART;TZID=America/New_York:20241209T130000
DTEND;TZID=America/New_York:20241209T140000
DTSTAMP:20260425T164018
CREATED:20240710T021508Z
LAST-MODIFIED:20240710T021508Z
UID:13377-1733749200-1733752800@njsim.org
SUMMARY:Members In Transition (M.I.T.) Meeting - 2024-12-09
DESCRIPTION:[vc_row type=”in_container” full_screen_row_position=”middle” column_margin=”default” column_direction=”default” column_direction_tablet=”default” column_direction_phone=”default” scene_position=”center” text_color=”dark” text_align=”left” row_border_radius=”none” row_border_radius_applies=”bg” overlay_strength=”0.3″ gradient_direction=”left_to_right” shape_divider_position=”bottom” bg_image_animation=”none”][vc_column column_padding=”no-extra-padding” column_padding_tablet=”inherit” column_padding_phone=”inherit” column_padding_position=”all” column_element_spacing=”default” background_color_opacity=”1″ background_hover_color_opacity=”1″ column_shadow=”none” column_border_radius=”none” column_link_target=”_self” gradient_direction=”left_to_right” overlay_strength=”0.3″ width=”1/1″ tablet_width_inherit=”default” tablet_text_alignment=”default” phone_text_alignment=”default” bg_image_animation=”none” border_type=”simple” column_border_width=”none” column_border_style=”solid”][vc_row_inner column_margin=”default” column_direction=”default” column_direction_tablet=”default” column_direction_phone=”default” text_align=”left”][vc_column_inner column_padding=”no-extra-padding” column_padding_tablet=”inherit” column_padding_phone=”inherit” column_padding_position=”all” column_element_spacing=”default” background_color_opacity=”1″ background_hover_color_opacity=”1″ column_shadow=”none” column_border_radius=”none” column_link_target=”_self” gradient_direction=”left_to_right” overlay_strength=”0.3″ width=”1/2″ tablet_width_inherit=”default” bg_image_animation=”none” border_type=”simple” column_border_width=”none” column_border_style=”solid”][vc_column_text]\nAre you in transition? Are you thinking of changing positions? Is your company hiring? Then register for our meeting!  This meeting is open and complimentary to all members\, whether you are looking for a new position or want to help your colleagues.  \nLet us know if you are currently in transition so that we may keep you apprised of potential opportunities as we hear about them.  Email Mark Beatty or Giacomo Mascillaro\, the hosts of the meeting.\n\nMore information is available on the MIT message site and our information page.  Also\, check out SIM National’s database of I.T. executive jobs\, at careers.simnet.org.\nMeetings will be held every other Monday.  Schedule permitting\, we will be joined at most meetings by Dan Counts\, Certified Career Coach and co-leader of the West Coast SIM MIT chapter. \n\nTo register\, select your complimentary ticket below.  [/vc_column_text][/vc_column_inner][vc_column_inner column_padding=”no-extra-padding” column_padding_tablet=”inherit” column_padding_phone=”inherit” column_padding_position=”all” column_element_spacing=”default” background_color_opacity=”1″ background_hover_color_opacity=”1″ column_shadow=”none” column_border_radius=”none” column_link_target=”_self” gradient_direction=”left_to_right” overlay_strength=”0.3″ width=”1/2″ tablet_width_inherit=”default” bg_image_animation=”none” border_type=”simple” column_border_width=”none” column_border_style=”solid”][image_with_animation image_url=”9596″ animation=”None” hover_animation=”none” alignment=”” border_radius=”none” box_shadow=”none” image_loading=”default” max_width=”100%” max_width_mobile=”default”][/vc_column_inner][/vc_row_inner][/vc_column][/vc_row]
URL:https://njsim.org/event/members-in-transition-m-i-t-meeting-2024-12-09/
LOCATION:Webinar
CATEGORIES:Member Event,Webinar
ATTACH;FMTTYPE=image/jpeg:https://njsim.org/wp-content/uploads/2023/03/Help-Support-Guidance-Assistance-scaled.jpeg
END:VEVENT
BEGIN:VEVENT
DTSTART;TZID=America/New_York:20241223T130000
DTEND;TZID=America/New_York:20241223T140000
DTSTAMP:20260425T164018
CREATED:20240710T021718Z
LAST-MODIFIED:20240710T021718Z
UID:13380-1734958800-1734962400@njsim.org
SUMMARY:Members In Transition (M.I.T.) Meeting - 2024-12-23
DESCRIPTION:[vc_row type=”in_container” full_screen_row_position=”middle” column_margin=”default” column_direction=”default” column_direction_tablet=”default” column_direction_phone=”default” scene_position=”center” text_color=”dark” text_align=”left” row_border_radius=”none” row_border_radius_applies=”bg” overlay_strength=”0.3″ gradient_direction=”left_to_right” shape_divider_position=”bottom” bg_image_animation=”none”][vc_column column_padding=”no-extra-padding” column_padding_tablet=”inherit” column_padding_phone=”inherit” column_padding_position=”all” column_element_spacing=”default” background_color_opacity=”1″ background_hover_color_opacity=”1″ column_shadow=”none” column_border_radius=”none” column_link_target=”_self” gradient_direction=”left_to_right” overlay_strength=”0.3″ width=”1/1″ tablet_width_inherit=”default” tablet_text_alignment=”default” phone_text_alignment=”default” bg_image_animation=”none” border_type=”simple” column_border_width=”none” column_border_style=”solid”][vc_row_inner column_margin=”default” column_direction=”default” column_direction_tablet=”default” column_direction_phone=”default” text_align=”left”][vc_column_inner column_padding=”no-extra-padding” column_padding_tablet=”inherit” column_padding_phone=”inherit” column_padding_position=”all” column_element_spacing=”default” background_color_opacity=”1″ background_hover_color_opacity=”1″ column_shadow=”none” column_border_radius=”none” column_link_target=”_self” gradient_direction=”left_to_right” overlay_strength=”0.3″ width=”1/2″ tablet_width_inherit=”default” bg_image_animation=”none” border_type=”simple” column_border_width=”none” column_border_style=”solid”][vc_column_text]\nAre you in transition? Are you thinking of changing positions? Is your company hiring? Then register for our meeting!  This meeting is open and complimentary to all members\, whether you are looking for a new position or want to help your colleagues.  \nLet us know if you are currently in transition so that we may keep you apprised of potential opportunities as we hear about them.  Email Mark Beatty or Giacomo Mascillaro\, the hosts of the meeting.\n\nMore information is available on the MIT message site and our information page.  Also\, check out SIM National’s database of I.T. executive jobs\, at careers.simnet.org.\nMeetings will be held every other Monday.  Schedule permitting\, we will be joined at most meetings by Dan Counts\, Certified Career Coach and co-leader of the West Coast SIM MIT chapter. \n\nTo register\, select your complimentary ticket below.  [/vc_column_text][/vc_column_inner][vc_column_inner column_padding=”no-extra-padding” column_padding_tablet=”inherit” column_padding_phone=”inherit” column_padding_position=”all” column_element_spacing=”default” background_color_opacity=”1″ background_hover_color_opacity=”1″ column_shadow=”none” column_border_radius=”none” column_link_target=”_self” gradient_direction=”left_to_right” overlay_strength=”0.3″ width=”1/2″ tablet_width_inherit=”default” bg_image_animation=”none” border_type=”simple” column_border_width=”none” column_border_style=”solid”][image_with_animation image_url=”9596″ animation=”None” hover_animation=”none” alignment=”” border_radius=”none” box_shadow=”none” image_loading=”default” max_width=”100%” max_width_mobile=”default”][/vc_column_inner][/vc_row_inner][/vc_column][/vc_row]
URL:https://njsim.org/event/members-in-transition-m-i-t-meeting-2024-12-23/
LOCATION:Webinar
CATEGORIES:Member Event,Webinar
ATTACH;FMTTYPE=image/jpeg:https://njsim.org/wp-content/uploads/2023/03/Help-Support-Guidance-Assistance-scaled.jpeg
END:VEVENT
END:VCALENDAR