BEGIN:VCALENDAR
VERSION:2.0
PRODID:-//NJ Society for Information Management - ECPv6.15.18//NONSGML v1.0//EN
CALSCALE:GREGORIAN
METHOD:PUBLISH
X-ORIGINAL-URL:https://njsim.org
X-WR-CALDESC:Events for NJ Society for Information Management
REFRESH-INTERVAL;VALUE=DURATION:PT1H
X-Robots-Tag:noindex
X-PUBLISHED-TTL:PT1H
BEGIN:VTIMEZONE
TZID:America/New_York
BEGIN:DAYLIGHT
TZOFFSETFROM:-0500
TZOFFSETTO:-0400
TZNAME:EDT
DTSTART:20240310T070000
END:DAYLIGHT
BEGIN:STANDARD
TZOFFSETFROM:-0400
TZOFFSETTO:-0500
TZNAME:EST
DTSTART:20241103T060000
END:STANDARD
BEGIN:DAYLIGHT
TZOFFSETFROM:-0500
TZOFFSETTO:-0400
TZNAME:EDT
DTSTART:20250309T070000
END:DAYLIGHT
BEGIN:STANDARD
TZOFFSETFROM:-0400
TZOFFSETTO:-0500
TZNAME:EST
DTSTART:20251102T060000
END:STANDARD
BEGIN:DAYLIGHT
TZOFFSETFROM:-0500
TZOFFSETTO:-0400
TZNAME:EDT
DTSTART:20260308T070000
END:DAYLIGHT
BEGIN:STANDARD
TZOFFSETFROM:-0400
TZOFFSETTO:-0500
TZNAME:EST
DTSTART:20261101T060000
END:STANDARD
END:VTIMEZONE
BEGIN:VEVENT
DTSTART;TZID=America/New_York:20250502T080000
DTEND;TZID=America/New_York:20250502T080000
DTSTAMP:20260425T062829
CREATED:20250505T161726Z
LAST-MODIFIED:20250505T162221Z
UID:18277-1746172800-1746172800@njsim.org
SUMMARY:CIO Roundtable\, 5/2/2025
DESCRIPTION:
URL:https://njsim.org/event/cio-roundtable-5-2-2025/
LOCATION:Webinar
CATEGORIES:Member Event,Webinar
ATTACH;FMTTYPE=image/jpeg:https://njsim.org/wp-content/uploads/2022/11/CIO_Roundtable-1.jpg
END:VEVENT
BEGIN:VEVENT
DTSTART;TZID=America/New_York:20250508T173000
DTEND;TZID=America/New_York:20250508T203000
DTSTAMP:20260425T062829
CREATED:20241021T185136Z
LAST-MODIFIED:20250416T194244Z
UID:14668-1746725400-1746736200@njsim.org
SUMMARY:May 2025 Monthly Meeting
DESCRIPTION:[vc_row type=”in_container” full_screen_row_position=”middle” column_margin=”default” column_direction=”default” column_direction_tablet=”default” column_direction_phone=”default” scene_position=”center” text_color=”dark” text_align=”left” row_border_radius=”none” row_border_radius_applies=”bg” overlay_strength=”0.3″ gradient_direction=”left_to_right” shape_divider_position=”bottom” bg_image_animation=”none”][vc_column column_padding=”no-extra-padding” column_padding_tablet=”inherit” column_padding_phone=”inherit” column_padding_position=”all” column_element_spacing=”default” background_color_opacity=”1″ background_hover_color_opacity=”1″ column_shadow=”none” column_border_radius=”none” column_link_target=”_self” gradient_direction=”left_to_right” overlay_strength=”0.3″ width=”1/1″ tablet_width_inherit=”default” tablet_text_alignment=”default” phone_text_alignment=”default” bg_image_animation=”none” border_type=”simple” column_border_width=”none” column_border_style=”solid”][nectar_gradient_text heading_tag=”h2″ color=”extra-color-gradient-2″ gradient_direction=”horizontal” text=”Win When They Say You Won’t: Break Through Barriers and Keep Leveling Up Your Success”][/vc_column][/vc_row][vc_row type=”in_container” full_screen_row_position=”middle” column_margin=”default” column_direction=”default” column_direction_tablet=”default” column_direction_phone=”default” scene_position=”center” text_color=”dark” text_align=”left” row_border_radius=”none” row_border_radius_applies=”bg” overlay_strength=”0.3″ gradient_direction=”left_to_right” shape_divider_position=”bottom” bg_image_animation=”none” shape_type=””][vc_column column_padding=”no-extra-padding” column_padding_tablet=”inherit” column_padding_phone=”inherit” column_padding_position=”all” column_element_spacing=”default” background_color_opacity=”1″ background_hover_color_opacity=”1″ column_shadow=”none” column_border_radius=”none” column_link_target=”_self” gradient_direction=”left_to_right” overlay_strength=”0.3″ width=”1/1″ tablet_width_inherit=”default” tablet_text_alignment=”default” phone_text_alignment=”default” bg_image_animation=”none” border_type=”simple” column_border_width=”none” column_border_style=”solid”][vc_column_text]\nWin When They Say You Won’t: Break Through Barriers and Keep Leveling Up Your Success\n\nDaphne E. Jones is a corporate board member who has held SVP\, CIO and other leadership positions at Fortune 500 companies including IBM\, Johnson & Johnson\, Hospira (now Pfizer) and General Electric.  Drawn from her own rags to riches story\, her book\, WIN WHEN THEY SAY YOU WON’T: Break Through Barriers and Keep Leveling Up Your Success\, is Daphne’s inspiring guide to help anyone achieve the career of their dreams with a winning mindset and proven playbook.\n\nJoin us as Daphne shares her experiences and strategies to achieve the dream career with a winning mindset and proven playbook.\n[/vc_column_text][/vc_column][/vc_row][vc_row type=”in_container” full_screen_row_position=”middle” column_margin=”default” column_direction=”default” column_direction_tablet=”default” column_direction_phone=”default” scene_position=”center” text_color=”dark” text_align=”left” row_border_radius=”none” row_border_radius_applies=”bg” overlay_strength=”0.3″ gradient_direction=”left_to_right” shape_divider_position=”bottom” bg_image_animation=”none”][vc_column column_padding=”no-extra-padding” column_padding_tablet=”inherit” column_padding_phone=”inherit” column_padding_position=”all” column_element_spacing=”default” background_color_opacity=”1″ background_hover_color_opacity=”1″ column_shadow=”none” column_border_radius=”none” column_link_target=”_self” gradient_direction=”left_to_right” overlay_strength=”0.3″ width=”1/1″ tablet_width_inherit=”default” tablet_text_alignment=”default” phone_text_alignment=”default” bg_image_animation=”none” border_type=”simple” column_border_width=”none” column_border_style=”solid”][vc_custom_heading text=”Agenda” font_container=”tag:h2|text_align:left|color:%23005b94″ use_theme_fonts=”yes”][vc_column_text]5:30     Registration and Networking\n6:15     Dinner\n6:45     Business Meeting\n7:00     Presentation and Q&A\n8:00     Networking[/vc_column_text][/vc_column][/vc_row][vc_row type=”in_container” full_screen_row_position=”middle” column_margin=”default” column_direction=”default” column_direction_tablet=”default” column_direction_phone=”default” scene_position=”center” text_color=”dark” text_align=”left” row_border_radius=”none” row_border_radius_applies=”bg” overlay_strength=”0.3″ gradient_direction=”left_to_right” shape_divider_position=”bottom” bg_image_animation=”none”][vc_column column_padding=”no-extra-padding” column_padding_tablet=”inherit” column_padding_phone=”inherit” column_padding_position=”all” column_element_spacing=”default” background_color_opacity=”1″ background_hover_color_opacity=”1″ column_shadow=”none” column_border_radius=”none” column_link_target=”_self” gradient_direction=”left_to_right” overlay_strength=”0.3″ width=”1/1″ tablet_width_inherit=”default” tablet_text_alignment=”default” phone_text_alignment=”default” bg_image_animation=”none” border_type=”simple” column_border_width=”none” column_border_style=”solid”][vc_column_text]Please register for the event below.\nPlease note that registration at the event will be $85.00 for members.[/vc_column_text][/vc_column][/vc_row]
URL:https://njsim.org/event/may-2025-monthly-meeting-2/
LOCATION:Madison Hotel\, 1 Convent Road\, Morristown\, NJ\, United States
CATEGORIES:Member Event,Monthly Meeting
ATTACH;FMTTYPE=image/jpeg:https://njsim.org/wp-content/uploads/2024/10/DaphneEJones.jpg
END:VEVENT
BEGIN:VEVENT
DTSTART;TZID=America/New_York:20250508T200000
DTEND;TZID=America/New_York:20250508T210000
DTSTAMP:20260425T062829
CREATED:20250502T022642Z
LAST-MODIFIED:20250502T022642Z
UID:18178-1746734400-1746738000@njsim.org
SUMMARY:Members In Transition (M.I.T.) In-Person Meeting - 2025-05-08
DESCRIPTION:[vc_row type=”in_container” full_screen_row_position=”middle” column_margin=”default” column_direction=”default” column_direction_tablet=”default” column_direction_phone=”default” scene_position=”center” text_color=”dark” text_align=”left” row_border_radius=”none” row_border_radius_applies=”bg” overlay_strength=”0.3″ gradient_direction=”left_to_right” shape_divider_position=”bottom” bg_image_animation=”none”][vc_column column_padding=”no-extra-padding” column_padding_tablet=”inherit” column_padding_phone=”inherit” column_padding_position=”all” column_element_spacing=”default” background_color_opacity=”1″ background_hover_color_opacity=”1″ column_shadow=”none” column_border_radius=”none” column_link_target=”_self” gradient_direction=”left_to_right” overlay_strength=”0.3″ width=”1/1″ tablet_width_inherit=”default” tablet_text_alignment=”default” phone_text_alignment=”default” bg_image_animation=”none” border_type=”simple” column_border_width=”none” column_border_style=”solid”][vc_row_inner column_margin=”default” column_direction=”default” column_direction_tablet=”default” column_direction_phone=”default” text_align=”left”][vc_column_inner column_padding=”no-extra-padding” column_padding_tablet=”inherit” column_padding_phone=”inherit” column_padding_position=”all” column_element_spacing=”default” background_color_opacity=”1″ background_hover_color_opacity=”1″ column_shadow=”none” column_border_radius=”none” column_link_target=”_self” gradient_direction=”left_to_right” overlay_strength=”0.3″ width=”1/2″ tablet_width_inherit=”default” bg_image_animation=”none” border_type=”simple” column_border_width=”none” column_border_style=”solid”][vc_column_text]\nAre you in transition? Are you thinking of changing positions? Is your company hiring? Then register for our meeting!  This meeting is open and complimentary to all members\, whether you are looking for a new position or want to help your colleagues.  \nLet us know if you are currently in transition so that we may keep you apprised of potential opportunities as we hear about them.  Email Mark Beatty or Giacomo Mascillaro\, the hosts of the meeting.\n\nMore information is available on the MIT message site and our information page.  Also\, check out SIM National’s database of I.T. executive jobs\, at careers.simnet.org.\nMeetings will be held every other Monday.  Schedule permitting\, we will be joined at most meetings by Dan Counts\, Certified Career Coach and co-leader of the West Coast SIM MIT chapter. \n\nTo register\, select your complimentary ticket below.  [/vc_column_text][/vc_column_inner][vc_column_inner column_padding=”no-extra-padding” column_padding_tablet=”inherit” column_padding_phone=”inherit” column_padding_position=”all” column_element_spacing=”default” background_color_opacity=”1″ background_hover_color_opacity=”1″ column_shadow=”none” column_border_radius=”none” column_link_target=”_self” gradient_direction=”left_to_right” overlay_strength=”0.3″ width=”1/2″ tablet_width_inherit=”default” bg_image_animation=”none” border_type=”simple” column_border_width=”none” column_border_style=”solid”][image_with_animation image_url=”9596″ animation=”None” hover_animation=”none” alignment=”” border_radius=”none” box_shadow=”none” image_loading=”default” max_width=”100%” max_width_mobile=”default”][/vc_column_inner][/vc_row_inner][/vc_column][/vc_row]
URL:https://njsim.org/event/members-in-transition-m-i-t-in-person-meeting-2025-05-08/
LOCATION:Madison Hotel\, 1 Convent Road\, Morristown\, NJ\, United States
CATEGORIES:Member Event,Webinar
ATTACH;FMTTYPE=image/jpeg:https://njsim.org/wp-content/uploads/2023/03/Help-Support-Guidance-Assistance-scaled.jpeg
END:VEVENT
BEGIN:VEVENT
DTSTART;TZID=America/New_York:20250512T130000
DTEND;TZID=America/New_York:20250512T140000
DTSTAMP:20260425T062829
CREATED:20250502T021408Z
LAST-MODIFIED:20250502T021408Z
UID:18166-1747054800-1747058400@njsim.org
SUMMARY:Members In Transition (M.I.T.) Meeting - 2025-05-12
DESCRIPTION:[vc_row type=”in_container” full_screen_row_position=”middle” column_margin=”default” column_direction=”default” column_direction_tablet=”default” column_direction_phone=”default” scene_position=”center” text_color=”dark” text_align=”left” row_border_radius=”none” row_border_radius_applies=”bg” overlay_strength=”0.3″ gradient_direction=”left_to_right” shape_divider_position=”bottom” bg_image_animation=”none”][vc_column column_padding=”no-extra-padding” column_padding_tablet=”inherit” column_padding_phone=”inherit” column_padding_position=”all” column_element_spacing=”default” background_color_opacity=”1″ background_hover_color_opacity=”1″ column_shadow=”none” column_border_radius=”none” column_link_target=”_self” gradient_direction=”left_to_right” overlay_strength=”0.3″ width=”1/1″ tablet_width_inherit=”default” tablet_text_alignment=”default” phone_text_alignment=”default” bg_image_animation=”none” border_type=”simple” column_border_width=”none” column_border_style=”solid”][vc_row_inner column_margin=”default” column_direction=”default” column_direction_tablet=”default” column_direction_phone=”default” text_align=”left”][vc_column_inner column_padding=”no-extra-padding” column_padding_tablet=”inherit” column_padding_phone=”inherit” column_padding_position=”all” column_element_spacing=”default” background_color_opacity=”1″ background_hover_color_opacity=”1″ column_shadow=”none” column_border_radius=”none” column_link_target=”_self” gradient_direction=”left_to_right” overlay_strength=”0.3″ width=”1/2″ tablet_width_inherit=”default” bg_image_animation=”none” border_type=”simple” column_border_width=”none” column_border_style=”solid”][vc_column_text]\nAre you in transition? Are you thinking of changing positions? Is your company hiring? Then register for our meeting!  This meeting is open and complimentary to all members\, whether you are looking for a new position or want to help your colleagues.  \nLet us know if you are currently in transition so that we may keep you apprised of potential opportunities as we hear about them.  Email Mark Beatty or Giacomo Mascillaro\, the hosts of the meeting.\n\nMore information is available on the MIT message site and our information page.  Also\, check out SIM National’s database of I.T. executive jobs\, at careers.simnet.org.\nMeetings will be held every other Monday.  Schedule permitting\, we will be joined at most meetings by Dan Counts\, Certified Career Coach and co-leader of the West Coast SIM MIT chapter. \n\nTo register\, select your complimentary ticket below.  [/vc_column_text][/vc_column_inner][vc_column_inner column_padding=”no-extra-padding” column_padding_tablet=”inherit” column_padding_phone=”inherit” column_padding_position=”all” column_element_spacing=”default” background_color_opacity=”1″ background_hover_color_opacity=”1″ column_shadow=”none” column_border_radius=”none” column_link_target=”_self” gradient_direction=”left_to_right” overlay_strength=”0.3″ width=”1/2″ tablet_width_inherit=”default” bg_image_animation=”none” border_type=”simple” column_border_width=”none” column_border_style=”solid”][image_with_animation image_url=”9596″ animation=”None” hover_animation=”none” alignment=”” border_radius=”none” box_shadow=”none” image_loading=”default” max_width=”100%” max_width_mobile=”default”][/vc_column_inner][/vc_row_inner][/vc_column][/vc_row]
URL:https://njsim.org/event/members-in-transition-m-i-t-meeting-2025-05-12/
LOCATION:Webinar
CATEGORIES:Member Event,Webinar
ATTACH;FMTTYPE=image/jpeg:https://njsim.org/wp-content/uploads/2023/03/Help-Support-Guidance-Assistance-scaled.jpeg
END:VEVENT
BEGIN:VEVENT
DTSTART;TZID=America/New_York:20250527T130000
DTEND;TZID=America/New_York:20250527T140000
DTSTAMP:20260425T062829
CREATED:20250502T021621Z
LAST-MODIFIED:20250502T021621Z
UID:18169-1748350800-1748354400@njsim.org
SUMMARY:Members In Transition (M.I.T.) Meeting - 2025-05-27
DESCRIPTION:[vc_row type=”in_container” full_screen_row_position=”middle” column_margin=”default” column_direction=”default” column_direction_tablet=”default” column_direction_phone=”default” scene_position=”center” text_color=”dark” text_align=”left” row_border_radius=”none” row_border_radius_applies=”bg” overlay_strength=”0.3″ gradient_direction=”left_to_right” shape_divider_position=”bottom” bg_image_animation=”none”][vc_column column_padding=”no-extra-padding” column_padding_tablet=”inherit” column_padding_phone=”inherit” column_padding_position=”all” column_element_spacing=”default” background_color_opacity=”1″ background_hover_color_opacity=”1″ column_shadow=”none” column_border_radius=”none” column_link_target=”_self” gradient_direction=”left_to_right” overlay_strength=”0.3″ width=”1/1″ tablet_width_inherit=”default” tablet_text_alignment=”default” phone_text_alignment=”default” bg_image_animation=”none” border_type=”simple” column_border_width=”none” column_border_style=”solid”][vc_row_inner column_margin=”default” column_direction=”default” column_direction_tablet=”default” column_direction_phone=”default” text_align=”left”][vc_column_inner column_padding=”no-extra-padding” column_padding_tablet=”inherit” column_padding_phone=”inherit” column_padding_position=”all” column_element_spacing=”default” background_color_opacity=”1″ background_hover_color_opacity=”1″ column_shadow=”none” column_border_radius=”none” column_link_target=”_self” gradient_direction=”left_to_right” overlay_strength=”0.3″ width=”1/2″ tablet_width_inherit=”default” bg_image_animation=”none” border_type=”simple” column_border_width=”none” column_border_style=”solid”][vc_column_text]\nAre you in transition? Are you thinking of changing positions? Is your company hiring? Then register for our meeting!  This meeting is open and complimentary to all members\, whether you are looking for a new position or want to help your colleagues.  \nLet us know if you are currently in transition so that we may keep you apprised of potential opportunities as we hear about them.  Email Mark Beatty or Giacomo Mascillaro\, the hosts of the meeting.\n\nMore information is available on the MIT message site and our information page.  Also\, check out SIM National’s database of I.T. executive jobs\, at careers.simnet.org.\nMeetings will be held every other Monday.  Schedule permitting\, we will be joined at most meetings by Dan Counts\, Certified Career Coach and co-leader of the West Coast SIM MIT chapter. \n\nTo register\, select your complimentary ticket below.  [/vc_column_text][/vc_column_inner][vc_column_inner column_padding=”no-extra-padding” column_padding_tablet=”inherit” column_padding_phone=”inherit” column_padding_position=”all” column_element_spacing=”default” background_color_opacity=”1″ background_hover_color_opacity=”1″ column_shadow=”none” column_border_radius=”none” column_link_target=”_self” gradient_direction=”left_to_right” overlay_strength=”0.3″ width=”1/2″ tablet_width_inherit=”default” bg_image_animation=”none” border_type=”simple” column_border_width=”none” column_border_style=”solid”][image_with_animation image_url=”9596″ animation=”None” hover_animation=”none” alignment=”” border_radius=”none” box_shadow=”none” image_loading=”default” max_width=”100%” max_width_mobile=”default”][/vc_column_inner][/vc_row_inner][/vc_column][/vc_row]
URL:https://njsim.org/event/members-in-transition-m-i-t-meeting-2025-05-27/
LOCATION:Webinar
CATEGORIES:Member Event,Webinar
ATTACH;FMTTYPE=image/jpeg:https://njsim.org/wp-content/uploads/2023/03/Help-Support-Guidance-Assistance-scaled.jpeg
END:VEVENT
END:VCALENDAR