BEGIN:VCALENDAR
VERSION:2.0
PRODID:-//NJ Society for Information Management - ECPv6.15.18//NONSGML v1.0//EN
CALSCALE:GREGORIAN
METHOD:PUBLISH
X-WR-CALNAME:NJ Society for Information Management
X-ORIGINAL-URL:https://njsim.org
X-WR-CALDESC:Events for NJ Society for Information Management
REFRESH-INTERVAL;VALUE=DURATION:PT1H
X-Robots-Tag:noindex
X-PUBLISHED-TTL:PT1H
BEGIN:VTIMEZONE
TZID:America/New_York
BEGIN:DAYLIGHT
TZOFFSETFROM:-0500
TZOFFSETTO:-0400
TZNAME:EDT
DTSTART:20240310T070000
END:DAYLIGHT
BEGIN:STANDARD
TZOFFSETFROM:-0400
TZOFFSETTO:-0500
TZNAME:EST
DTSTART:20241103T060000
END:STANDARD
BEGIN:DAYLIGHT
TZOFFSETFROM:-0500
TZOFFSETTO:-0400
TZNAME:EDT
DTSTART:20250309T070000
END:DAYLIGHT
BEGIN:STANDARD
TZOFFSETFROM:-0400
TZOFFSETTO:-0500
TZNAME:EST
DTSTART:20251102T060000
END:STANDARD
BEGIN:DAYLIGHT
TZOFFSETFROM:-0500
TZOFFSETTO:-0400
TZNAME:EDT
DTSTART:20260308T070000
END:DAYLIGHT
BEGIN:STANDARD
TZOFFSETFROM:-0400
TZOFFSETTO:-0500
TZNAME:EST
DTSTART:20261101T060000
END:STANDARD
END:VTIMEZONE
BEGIN:VEVENT
DTSTART;TZID=America/New_York:20250311T120000
DTEND;TZID=America/New_York:20250311T130000
DTSTAMP:20260425T112621
CREATED:20250128T045447Z
LAST-MODIFIED:20250128T045447Z
UID:16261-1741694400-1741698000@njsim.org
SUMMARY:SIM Work 4.0 SIG - Future-Ready IT: Defining\, Tracking\, and Managing Workforce Skills
DESCRIPTION:[vc_row type=”in_container” full_screen_row_position=”middle” column_margin=”default” column_direction=”default” column_direction_tablet=”default” column_direction_phone=”default” scene_position=”center” text_color=”dark” text_align=”left” row_border_radius=”none” row_border_radius_applies=”bg” overlay_strength=”0.3″ gradient_direction=”left_to_right” shape_divider_position=”bottom” bg_image_animation=”none”][vc_column column_padding=”no-extra-padding” column_padding_tablet=”inherit” column_padding_phone=”inherit” column_padding_position=”all” column_element_spacing=”default” background_color_opacity=”1″ background_hover_color_opacity=”1″ column_shadow=”none” column_border_radius=”none” column_link_target=”_self” gradient_direction=”left_to_right” overlay_strength=”0.3″ width=”1/1″ tablet_width_inherit=”default” tablet_text_alignment=”default” phone_text_alignment=”default” bg_image_animation=”none” border_type=”simple” column_border_width=”none” column_border_style=”solid”][vc_column_text]\n\nAbout the Session:\nWe are excited to provide one (1) Continuing Education Unit (CEU) for attendance to our next SIM Work 4.0 webinar. \n\nMust attend the virtual event and stay for the duration\nMust request the certificate from SIM\nOne (1) CEU will be awarded subject to the acceptance by the recipient’s certification organization\n\nDrive Innovation with Better Skills and Certification Management \nAs IT leaders navigate their organizations through rapid technological changes\, having a skilled\, compliant\, and adaptable workforce is critical to success. Yet\, defining the skills required\, tracking training records\, and managing certifications can feel overwhelming—especially across diverse and dispersed teams. \nJoin us on Tuesday\, March 11 @ 12:00PM ET for an informative SIM Work 4.0 webinar where industry experts explore how to: \n\nDefine critical IT and operational skills for current and future needs.\nStreamline how to track training records that ensure workforce readiness.\nManage certifications and compliance efficiently to reduce risk.\n\n\nBuild a data-driven skills strategy that aligns with your organizational goals.\n\nKey Takeaways: \n\nA step-by-step approach to identifying skill gaps and developing your workforce.\nInsights on using modern tools to automate tracking and training record reporting.\nStrategies to build a future-proof workforce and elevate your leadership role.\n\nWhy Attend? \nThis webinar is designed specifically for IT leaders looking to drive innovation while ensuring their teams remain skilled\, compliant\, and ready for the challenges of tomorrow. \nSpeakers:  \nMike Kritzman \nFounder & CEO \nSkillNet \n  \nWendy Hoffman \nCHRO \nDivurgent Consulting \nWe are excited to provide one (1) Continuing Education Unit (CEU) for attendance to our next SIM Work 4.0 webinar. \n\nMust attend the virtual event and stay for the duration\nMust request the certificate from SIM\nOne (1) CEU will be awarded subject to the acceptance by the recipient’s certification organization\n\nCOST TO ATTEND: \nFree for SIM Members. \nEmployees of SIM Members are welcome to attend for free – please email work4.0@simnet.org for a promo code to register. \nATTENDEE SUPPORT: \nIf you have trouble registering or need to renew your SIM membership\, please email sim@simnet.org. \nIf you require special assistance of any kind\, please call us at 800.387.9746 or email us at work4.0@simnet.org. \n[/vc_column_text][vc_column_text][/vc_column_text][/vc_column][/vc_row][vc_row type=”in_container” full_screen_row_position=”middle” column_margin=”default” column_direction=”default” column_direction_tablet=”default” column_direction_phone=”default” scene_position=”center” text_color=”dark” text_align=”left” row_border_radius=”none” row_border_radius_applies=”bg” overlay_strength=”0.3″ gradient_direction=”left_to_right” shape_divider_position=”bottom” bg_image_animation=”none”][vc_column column_padding=”no-extra-padding” column_padding_tablet=”inherit” column_padding_phone=”inherit” column_padding_position=”all” column_element_spacing=”default” background_color_opacity=”1″ background_hover_color_opacity=”1″ column_shadow=”none” column_border_radius=”none” column_link_target=”_self” gradient_direction=”left_to_right” overlay_strength=”0.3″ width=”1/1″ tablet_width_inherit=”default” tablet_text_alignment=”default” phone_text_alignment=”default” bg_image_animation=”none” border_type=”simple” column_border_width=”none” column_border_style=”solid”][vc_column_text][/vc_column_text][/vc_column][/vc_row]
URL:https://njsim.org/event/sim-work-4-0-sig-future-ready-it-defining-tracking-and-managing-workforce-skills/
LOCATION:Webinar
CATEGORIES:Member Event,Webinar
ATTACH;FMTTYPE=image/png:https://njsim.org/wp-content/uploads/2025/01/sig_work_4.0_-_future_ready_.png
END:VEVENT
END:VCALENDAR