BEGIN:VCALENDAR
VERSION:2.0
PRODID:-//NJ Society for Information Management - ECPv6.15.18//NONSGML v1.0//EN
CALSCALE:GREGORIAN
METHOD:PUBLISH
X-WR-CALNAME:NJ Society for Information Management
X-ORIGINAL-URL:https://njsim.org
X-WR-CALDESC:Events for NJ Society for Information Management
REFRESH-INTERVAL;VALUE=DURATION:PT1H
X-Robots-Tag:noindex
X-PUBLISHED-TTL:PT1H
BEGIN:VTIMEZONE
TZID:America/New_York
BEGIN:DAYLIGHT
TZOFFSETFROM:-0500
TZOFFSETTO:-0400
TZNAME:EDT
DTSTART:20240310T070000
END:DAYLIGHT
BEGIN:STANDARD
TZOFFSETFROM:-0400
TZOFFSETTO:-0500
TZNAME:EST
DTSTART:20241103T060000
END:STANDARD
BEGIN:DAYLIGHT
TZOFFSETFROM:-0500
TZOFFSETTO:-0400
TZNAME:EDT
DTSTART:20250309T070000
END:DAYLIGHT
BEGIN:STANDARD
TZOFFSETFROM:-0400
TZOFFSETTO:-0500
TZNAME:EST
DTSTART:20251102T060000
END:STANDARD
BEGIN:DAYLIGHT
TZOFFSETFROM:-0500
TZOFFSETTO:-0400
TZNAME:EDT
DTSTART:20260308T070000
END:DAYLIGHT
BEGIN:STANDARD
TZOFFSETFROM:-0400
TZOFFSETTO:-0500
TZNAME:EST
DTSTART:20261101T060000
END:STANDARD
END:VTIMEZONE
BEGIN:VEVENT
DTSTART;VALUE=DATE:20251007
DTEND;VALUE=DATE:20251010
DTSTAMP:20260425T002945
CREATED:20250829T194348Z
LAST-MODIFIED:20250829T194348Z
UID:19565-1759795200-1760054399@njsim.org
SUMMARY:SIM Advanced Practices Council (APC) - October 2025 Meeting
DESCRIPTION:[vc_row type=”in_container” full_screen_row_position=”middle” column_margin=”default” column_direction=”default” column_direction_tablet=”default” column_direction_phone=”default” scene_position=”center” text_color=”dark” text_align=”left” row_border_radius=”none” row_border_radius_applies=”bg” overlay_strength=”0.3″ gradient_direction=”left_to_right” shape_divider_position=”bottom” bg_image_animation=”none”][vc_column column_padding=”no-extra-padding” column_padding_tablet=”inherit” column_padding_phone=”inherit” column_padding_position=”all” column_element_spacing=”default” background_color_opacity=”1″ background_hover_color_opacity=”1″ column_shadow=”none” column_border_radius=”none” column_link_target=”_self” gradient_direction=”left_to_right” overlay_strength=”0.3″ width=”1/1″ tablet_width_inherit=”default” tablet_text_alignment=”default” phone_text_alignment=”default” bg_image_animation=”none” border_type=”simple” column_border_width=”none” column_border_style=”solid”][vc_column_text]\nLearn more about the Advanced Practices Council\nContact Us for more information\n[/vc_column_text][vc_column_text][/vc_column_text][/vc_column][/vc_row][vc_row type=”in_container” full_screen_row_position=”middle” column_margin=”default” column_direction=”default” column_direction_tablet=”default” column_direction_phone=”default” scene_position=”center” text_color=”dark” text_align=”left” row_border_radius=”none” row_border_radius_applies=”bg” overlay_strength=”0.3″ gradient_direction=”left_to_right” shape_divider_position=”bottom” bg_image_animation=”none”][vc_column column_padding=”no-extra-padding” column_padding_tablet=”inherit” column_padding_phone=”inherit” column_padding_position=”all” column_element_spacing=”default” background_color_opacity=”1″ background_hover_color_opacity=”1″ column_shadow=”none” column_border_radius=”none” column_link_target=”_self” gradient_direction=”left_to_right” overlay_strength=”0.3″ width=”1/1″ tablet_width_inherit=”default” tablet_text_alignment=”default” phone_text_alignment=”default” bg_image_animation=”none” border_type=”simple” column_border_width=”none” column_border_style=”solid”][vc_column_text][/vc_column_text][/vc_column][/vc_row]
URL:https://njsim.org/event/sim-advanced-practices-council-apc-october-2025-meeting/
LOCATION:Chicago\, IL\, Chicago\, IL\, United States
CATEGORIES:Member Event,Offsite Meeting
END:VEVENT
BEGIN:VEVENT
DTSTART;TZID=America/New_York:20251008T123000
DTEND;TZID=America/New_York:20251008T133000
DTSTAMP:20260425T002945
CREATED:20250922T210314Z
LAST-MODIFIED:20250922T210314Z
UID:20220-1759926600-1759930200@njsim.org
SUMMARY:SIM Digirisk SIG: "Security Awareness in the Real World: What’s Working\, What’s Not"
DESCRIPTION:[vc_row type=”in_container” full_screen_row_position=”middle” column_margin=”default” column_direction=”default” column_direction_tablet=”default” column_direction_phone=”default” scene_position=”center” text_color=”dark” text_align=”left” row_border_radius=”none” row_border_radius_applies=”bg” overlay_strength=”0.3″ gradient_direction=”left_to_right” shape_divider_position=”bottom” bg_image_animation=”none”][vc_column column_padding=”no-extra-padding” column_padding_tablet=”inherit” column_padding_phone=”inherit” column_padding_position=”all” column_element_spacing=”default” background_color_opacity=”1″ background_hover_color_opacity=”1″ column_shadow=”none” column_border_radius=”none” column_link_target=”_self” gradient_direction=”left_to_right” overlay_strength=”0.3″ width=”1/1″ tablet_width_inherit=”default” tablet_text_alignment=”default” phone_text_alignment=”default” bg_image_animation=”none” border_type=”simple” column_border_width=”none” column_border_style=”solid”][vc_column_text]\nAbout the Session:\nSecurity awareness isn’t one-size-fits-all. In this interactive roundtable where you and your peers will share their current strategies\, successes\, and sticking points in building a culture of security. We’ll explore: \n\nWhich tactics actually engage employees (and which fall flat)\nHow to overcome common challenges like “training fatigue” or lack of buy-in\nCreative approaches to keep security top-of-mind year-round\n\nThis is a chance for you to compare notes\, exchange ideas\, and walk away with practical takeaways you can apply in your own program. Whether you’re leading a mature awareness initiative or just getting started\, you’ll gain fresh perspectives from others facing the same real-world challenges. \n*This session will not be recorded to ensure the confidentiality of statements made by participants under Chatham House Rule.* \nAbout the Moderator:\n  \n \nDaniel Gorecki is the CISO at NGC Risk. With extensive leadership experience spanning startups to Fortune 200 companies across various verticals like financial services\, pharmaceuticals\, and hospitality\, Dan excels in navigating the dynamic and constantly changing sea of cybersecurity\, risk management\, and information technology with over 20 years of security\, risk\, and IT experience. A resolute professional\, Dan holds the Chief Risk Officer and Executive Education Certificate from Carnegie Mellon University\, CISSP and CDPSE certifications\, and actively participates on non-profit boards and advisory roles. Dan’s academic foundation is rooted in his Computer Engineering degree from Stony Brook University\, and leadership training from SIM’s Rising Leadership Forum. \nCOST TO ATTEND:\nFree for SIM Members.\n$30 for non-members.\nEmployees of SIM Members are welcome to attend for free – please email digirisk@simnet.org for a promo code to register.  \nPlease sign in to receive member pricing for you and your staff.  \nATTENDEE SUPPORT:\nIf you have trouble registering or need to renew your SIM membership\, please email sim@simnet.org. \nIf you require special assistance of any kind\, please call us at 800.387.9746 or email us at digirisk@simnet.org. \n  \nRegister Here\n[/vc_column_text][vc_column_text][/vc_column_text][/vc_column][/vc_row][vc_row type=”in_container” full_screen_row_position=”middle” column_margin=”default” column_direction=”default” column_direction_tablet=”default” column_direction_phone=”default” scene_position=”center” text_color=”dark” text_align=”left” row_border_radius=”none” row_border_radius_applies=”bg” overlay_strength=”0.3″ gradient_direction=”left_to_right” shape_divider_position=”bottom” bg_image_animation=”none”][vc_column column_padding=”no-extra-padding” column_padding_tablet=”inherit” column_padding_phone=”inherit” column_padding_position=”all” column_element_spacing=”default” background_color_opacity=”1″ background_hover_color_opacity=”1″ column_shadow=”none” column_border_radius=”none” column_link_target=”_self” gradient_direction=”left_to_right” overlay_strength=”0.3″ width=”1/1″ tablet_width_inherit=”default” tablet_text_alignment=”default” phone_text_alignment=”default” bg_image_animation=”none” border_type=”simple” column_border_width=”none” column_border_style=”solid”][vc_column_text][/vc_column_text][/vc_column][/vc_row]
URL:https://njsim.org/event/sim-digirisk-sig-security-awareness-in-the-real-world-whats-working-whats-not/
LOCATION:Webinar
CATEGORIES:Member Event,Webinar
ATTACH;FMTTYPE=image/png:https://njsim.org/wp-content/uploads/2025/09/mail-1.png
END:VEVENT
END:VCALENDAR