BEGIN:VCALENDAR
VERSION:2.0
PRODID:-//NJ Society for Information Management - ECPv6.15.18//NONSGML v1.0//EN
CALSCALE:GREGORIAN
METHOD:PUBLISH
X-WR-CALNAME:NJ Society for Information Management
X-ORIGINAL-URL:https://njsim.org
X-WR-CALDESC:Events for NJ Society for Information Management
REFRESH-INTERVAL;VALUE=DURATION:PT1H
X-Robots-Tag:noindex
X-PUBLISHED-TTL:PT1H
BEGIN:VTIMEZONE
TZID:America/New_York
BEGIN:DAYLIGHT
TZOFFSETFROM:-0500
TZOFFSETTO:-0400
TZNAME:EDT
DTSTART:20230312T070000
END:DAYLIGHT
BEGIN:STANDARD
TZOFFSETFROM:-0400
TZOFFSETTO:-0500
TZNAME:EST
DTSTART:20231105T060000
END:STANDARD
BEGIN:DAYLIGHT
TZOFFSETFROM:-0500
TZOFFSETTO:-0400
TZNAME:EDT
DTSTART:20240310T070000
END:DAYLIGHT
BEGIN:STANDARD
TZOFFSETFROM:-0400
TZOFFSETTO:-0500
TZNAME:EST
DTSTART:20241103T060000
END:STANDARD
BEGIN:DAYLIGHT
TZOFFSETFROM:-0500
TZOFFSETTO:-0400
TZNAME:EDT
DTSTART:20250309T070000
END:DAYLIGHT
BEGIN:STANDARD
TZOFFSETFROM:-0400
TZOFFSETTO:-0500
TZNAME:EST
DTSTART:20251102T060000
END:STANDARD
BEGIN:DAYLIGHT
TZOFFSETFROM:-0500
TZOFFSETTO:-0400
TZNAME:EDT
DTSTART:20260308T070000
END:DAYLIGHT
BEGIN:STANDARD
TZOFFSETFROM:-0400
TZOFFSETTO:-0500
TZNAME:EST
DTSTART:20261101T060000
END:STANDARD
END:VTIMEZONE
BEGIN:VEVENT
DTSTART;TZID=America/New_York:20250922T080000
DTEND;TZID=America/New_York:20250922T080000
DTSTAMP:20260424T211028
CREATED:20250922T145403Z
LAST-MODIFIED:20251118T015800Z
UID:20784-1758528000-1758528000@njsim.org
SUMMARY:PMO Dinner\, 9/22/2025
DESCRIPTION:
URL:https://njsim.org/event/cio-roundtable-9-22-2025/
LOCATION:Webinar
CATEGORIES:Member Event,Webinar
ATTACH;FMTTYPE=image/jpeg:https://njsim.org/wp-content/uploads/2022/11/CIO_Roundtable-1.jpg
END:VEVENT
BEGIN:VEVENT
DTSTART;TZID=America/New_York:20250502T080000
DTEND;TZID=America/New_York:20250502T080000
DTSTAMP:20260424T211028
CREATED:20250505T161726Z
LAST-MODIFIED:20250505T162221Z
UID:18277-1746172800-1746172800@njsim.org
SUMMARY:CIO Roundtable\, 5/2/2025
DESCRIPTION:
URL:https://njsim.org/event/cio-roundtable-5-2-2025/
LOCATION:Webinar
CATEGORIES:Member Event,Webinar
ATTACH;FMTTYPE=image/jpeg:https://njsim.org/wp-content/uploads/2022/11/CIO_Roundtable-1.jpg
END:VEVENT
BEGIN:VEVENT
DTSTART;TZID=America/New_York:20240126T080000
DTEND;TZID=America/New_York:20240126T093000
DTSTAMP:20260424T211028
CREATED:20240127T171444Z
LAST-MODIFIED:20240226T194537Z
UID:11740-1706256000-1706261400@njsim.org
SUMMARY:CIO Roundtable January 26th 2024
DESCRIPTION:
URL:https://njsim.org/event/cio-roundtable-january-26th-2024/
LOCATION:Webinar
CATEGORIES:Member Event,Webinar
END:VEVENT
END:VCALENDAR