BEGIN:VCALENDAR
VERSION:2.0
PRODID:-//NJ Society for Information Management - ECPv6.15.18//NONSGML v1.0//EN
CALSCALE:GREGORIAN
METHOD:PUBLISH
X-WR-CALNAME:NJ Society for Information Management
X-ORIGINAL-URL:https://njsim.org
X-WR-CALDESC:Events for NJ Society for Information Management
REFRESH-INTERVAL;VALUE=DURATION:PT1H
X-Robots-Tag:noindex
X-PUBLISHED-TTL:PT1H
BEGIN:VTIMEZONE
TZID:America/New_York
BEGIN:DAYLIGHT
TZOFFSETFROM:-0500
TZOFFSETTO:-0400
TZNAME:EDT
DTSTART:20190310T070000
END:DAYLIGHT
BEGIN:STANDARD
TZOFFSETFROM:-0400
TZOFFSETTO:-0500
TZNAME:EST
DTSTART:20191103T060000
END:STANDARD
BEGIN:DAYLIGHT
TZOFFSETFROM:-0500
TZOFFSETTO:-0400
TZNAME:EDT
DTSTART:20200308T070000
END:DAYLIGHT
BEGIN:STANDARD
TZOFFSETFROM:-0400
TZOFFSETTO:-0500
TZNAME:EST
DTSTART:20201101T060000
END:STANDARD
BEGIN:DAYLIGHT
TZOFFSETFROM:-0500
TZOFFSETTO:-0400
TZNAME:EDT
DTSTART:20210314T070000
END:DAYLIGHT
BEGIN:STANDARD
TZOFFSETFROM:-0400
TZOFFSETTO:-0500
TZNAME:EST
DTSTART:20211107T060000
END:STANDARD
END:VTIMEZONE
BEGIN:VEVENT
DTSTART;TZID=America/New_York:20200514T170000
DTEND;TZID=America/New_York:20200514T181500
DTSTAMP:20260424T193355
CREATED:20200325T151304Z
LAST-MODIFIED:20201116T025301Z
UID:1387-1589475600-1589480100@njsim.org
SUMMARY:May Virtual Meeting - Manage your Career for Success
DESCRIPTION:[vc_row type=”in_container” full_screen_row_position=”middle” column_margin=”default” scene_position=”center” text_color=”dark” text_align=”left” overlay_strength=”0.3″ shape_divider_position=”bottom” bg_image_animation=”none”][vc_column column_padding=”no-extra-padding” column_padding_position=”all” background_color_opacity=”1″ background_hover_color_opacity=”1″ column_link_target=”_self” column_shadow=”none” column_border_radius=”none” width=”1/1″ tablet_width_inherit=”default” tablet_text_alignment=”default” phone_text_alignment=”default” overlay_strength=”0.3″ column_border_width=”none” column_border_style=”solid” bg_image_animation=”none”][nectar_gradient_text heading_tag=”h1″ color=”extra-color-gradient-2″ gradient_direction=”diagonal” text=”Manage Your Career for Success”][/vc_column][/vc_row][vc_row type=”in_container” full_screen_row_position=”middle” column_margin=”default” scene_position=”center” text_color=”dark” text_align=”left” overlay_strength=”0.3″ shape_divider_position=”bottom” bg_image_animation=”none”][vc_column column_padding=”no-extra-padding” column_padding_position=”all” background_color_opacity=”1″ background_hover_color_opacity=”1″ column_link_target=”_self” column_shadow=”none” column_border_radius=”none” width=”1/1″ tablet_width_inherit=”default” tablet_text_alignment=”default” phone_text_alignment=”default” overlay_strength=”0.3″ column_border_width=”none” column_border_style=”solid” bg_image_animation=”none”][vc_row_inner column_margin=”default” text_align=”left”][vc_column_inner column_padding=”no-extra-padding” column_padding_position=”all” background_color_opacity=”1″ background_hover_color_opacity=”1″ column_shadow=”none” column_border_radius=”none” column_link_target=”_self” width=”1/2″ tablet_width_inherit=”default” overlay_strength=”0.3″ column_border_width=”none” column_border_style=”solid” bg_image_animation=”none”][vc_column_text]Jim Knight\, the former Global CIO of Chubb Insurance company and 39 year IT veteran\, will be sharing his career story and what worked for him as he progressed through a very successful career.  He went from a junior programmer to Global CIO and then onto a thriving consulting and coaching business.  Jim’s last corporate job was with Chubb where he worked for 20 years with the last 9 years as the Global CIO.  Due to an acquisition Jim left Chubb in 2016 and decided to pursue one of his passions: helping people grow. \nIn that spirit and in addition to providing IT management consulting\, he has a thriving career/empowerment coaching business\, KnightInsights (www.jknightinsights.com) where he partners with clients to help them achieve career and/or personal goals.  His clients include many IT and other professionals\, Columbia University students\, Johnson & Johnson\, The Loews Corporation\, IBM and Workforce Opportunity Services to name a few.[/vc_column_text][/vc_column_inner][vc_column_inner column_padding=”no-extra-padding” column_padding_position=”all” background_color_opacity=”1″ background_hover_color_opacity=”1″ column_shadow=”none” column_border_radius=”none” column_link_target=”_self” width=”1/2″ tablet_width_inherit=”default” overlay_strength=”0.3″ column_border_width=”none” column_border_style=”solid” bg_image_animation=”none”][image_with_animation image_url=”525″ alignment=”” animation=”Fade In” hover_animation=”none” border_radius=”none” box_shadow=”none” image_loading=”default” max_width=”100%” max_width_mobile=”default”][/vc_column_inner][/vc_row_inner][/vc_column][/vc_row][vc_row type=”in_container” full_screen_row_position=”middle” column_margin=”default” scene_position=”center” text_color=”dark” text_align=”left” overlay_strength=”0.3″ shape_divider_position=”bottom” bg_image_animation=”none”][vc_column column_padding=”no-extra-padding” column_padding_position=”all” background_color_opacity=”1″ background_hover_color_opacity=”1″ column_link_target=”_self” column_shadow=”none” column_border_radius=”none” width=”1/1″ tablet_width_inherit=”default” tablet_text_alignment=”default” phone_text_alignment=”default” overlay_strength=”0.3″ column_border_width=”none” column_border_style=”solid” bg_image_animation=”none”][vc_custom_heading text=”Cost” font_container=”tag:h3|text_align:left|color:%23005b94″ use_theme_fonts=”yes”][vc_column_text]FREE for all SIM New Jersey members. \nPlease register for the event below\, or email your RSVP to Karen Kostulas.\nPlease include your full name\, professional title\, with company email in the message. \nWebinar information will be sent to all registered members shortly before the meeting date.[/vc_column_text][/vc_column][/vc_row]
URL:https://njsim.org/event/april-virtual-meeting-manage-your-career-for-success/
LOCATION:NJ\, United States
CATEGORIES:Monthly Meeting
END:VEVENT
END:VCALENDAR