BEGIN:VCALENDAR
VERSION:2.0
PRODID:-//NJ Society for Information Management - ECPv6.15.18//NONSGML v1.0//EN
CALSCALE:GREGORIAN
METHOD:PUBLISH
X-ORIGINAL-URL:https://njsim.org
X-WR-CALDESC:Events for NJ Society for Information Management
REFRESH-INTERVAL;VALUE=DURATION:PT1H
X-Robots-Tag:noindex
X-PUBLISHED-TTL:PT1H
BEGIN:VTIMEZONE
TZID:America/New_York
BEGIN:DAYLIGHT
TZOFFSETFROM:-0500
TZOFFSETTO:-0400
TZNAME:EDT
DTSTART:20240310T070000
END:DAYLIGHT
BEGIN:STANDARD
TZOFFSETFROM:-0400
TZOFFSETTO:-0500
TZNAME:EST
DTSTART:20241103T060000
END:STANDARD
BEGIN:DAYLIGHT
TZOFFSETFROM:-0500
TZOFFSETTO:-0400
TZNAME:EDT
DTSTART:20250309T070000
END:DAYLIGHT
BEGIN:STANDARD
TZOFFSETFROM:-0400
TZOFFSETTO:-0500
TZNAME:EST
DTSTART:20251102T060000
END:STANDARD
BEGIN:DAYLIGHT
TZOFFSETFROM:-0500
TZOFFSETTO:-0400
TZNAME:EDT
DTSTART:20260308T070000
END:DAYLIGHT
BEGIN:STANDARD
TZOFFSETFROM:-0400
TZOFFSETTO:-0500
TZNAME:EST
DTSTART:20261101T060000
END:STANDARD
END:VTIMEZONE
BEGIN:VEVENT
DTSTART;TZID=America/New_York:20251023T173000
DTEND;TZID=America/New_York:20251023T200000
DTSTAMP:20260424T220355
CREATED:20251017T185842Z
LAST-MODIFIED:20251021T184048Z
UID:20816-1761240600-1761249600@njsim.org
SUMMARY:SIM NJ Networking - Joint Happy Hour in Princeton
DESCRIPTION:[vc_row type=”in_container” full_screen_row_position=”middle” column_margin=”default” column_direction=”default” column_direction_tablet=”default” column_direction_phone=”default” scene_position=”center” text_color=”dark” text_align=”left” row_border_radius=”none” row_border_radius_applies=”bg” overlay_strength=”0.3″ gradient_direction=”left_to_right” shape_divider_position=”bottom” bg_image_animation=”none”][vc_column column_padding=”no-extra-padding” column_padding_tablet=”inherit” column_padding_phone=”inherit” column_padding_position=”all” column_element_spacing=”default” background_color_opacity=”1″ background_hover_color_opacity=”1″ column_shadow=”none” column_border_radius=”none” column_link_target=”_self” gradient_direction=”left_to_right” overlay_strength=”0.3″ width=”1/1″ tablet_width_inherit=”default” tablet_text_alignment=”default” phone_text_alignment=”default” bg_image_animation=”none” border_type=”simple” column_border_width=”none” column_border_style=”solid”][image_with_animation image_url=”20817″ animation=”Fade In” hover_animation=”none” alignment=”center” border_radius=”none” box_shadow=”none” image_loading=”default” max_width=”100%” max_width_mobile=”default”][/vc_column][/vc_row][vc_row type=”in_container” full_screen_row_position=”middle” column_margin=”default” column_direction=”default” column_direction_tablet=”default” column_direction_phone=”default” scene_position=”center” text_color=”dark” text_align=”left” row_border_radius=”none” row_border_radius_applies=”bg” overlay_strength=”0.3″ gradient_direction=”left_to_right” shape_divider_position=”bottom” bg_image_animation=”none”][vc_column column_padding=”no-extra-padding” column_padding_tablet=”inherit” column_padding_phone=”inherit” column_padding_position=”all” column_element_spacing=”default” background_color_opacity=”1″ background_hover_color_opacity=”1″ column_shadow=”none” column_border_radius=”none” column_link_target=”_self” gradient_direction=”left_to_right” overlay_strength=”0.3″ width=”1/1″ tablet_width_inherit=”default” tablet_text_alignment=”default” phone_text_alignment=”default” bg_image_animation=”none” border_type=”simple” column_border_width=”none” column_border_style=”solid”][vc_column_text]Please join us for a Happy Hour in Princeton on Thursday\, October 23rd\, at 5:30 PM at the Brick House Tavern. The Happy Hour will be co-hosted by SIM NJ and SIM Philly to help us forge connections with our SIM Philly colleagues. Come on out and enjoy some refreshments while making new friends and reconnecting with old friends. \nDate:  Thursday\, October 23\, 2025\nTime:  5:30 PM onwards\nLocation: Brick House Tavern\, 3569 US Hwy 1\, Princeton\, NJ \nThe Happy Hour will be sponsored by Glen Podinker of Dale Workforce Solutions. \nPlease RSVP to pcirullo@simnj.org if you can attend so we can plan appropriately.[/vc_column_text][/vc_column][/vc_row]
URL:https://njsim.org/event/sim-nj-networking-joint-happy-hour-in-princeton-2/
LOCATION:Brickhouse\, 3569 US Route 1\, Princeton\, NJ\, 08540\, United States
CATEGORIES:Member Event
ATTACH;FMTTYPE=image/jpeg:https://njsim.org/wp-content/uploads/2025/10/happy-hour.jpg
END:VEVENT
BEGIN:VEVENT
DTSTART;TZID=America/New_York:20250424T173000
DTEND;TZID=America/New_York:20250424T200000
DTSTAMP:20260424T220355
CREATED:20250306T191608Z
LAST-MODIFIED:20250306T204839Z
UID:16860-1745515800-1745524800@njsim.org
SUMMARY:SIM NJ Networking - Joint Happy Hour in Princeton
DESCRIPTION:[vc_row type=”in_container” full_screen_row_position=”middle” column_margin=”default” column_direction=”default” column_direction_tablet=”default” column_direction_phone=”default” scene_position=”center” text_color=”dark” text_align=”left” row_border_radius=”none” row_border_radius_applies=”bg” overlay_strength=”0.3″ gradient_direction=”left_to_right” shape_divider_position=”bottom” bg_image_animation=”none”][vc_column column_padding=”no-extra-padding” column_padding_tablet=”inherit” column_padding_phone=”inherit” column_padding_position=”all” column_element_spacing=”default” background_color_opacity=”1″ background_hover_color_opacity=”1″ column_shadow=”none” column_border_radius=”none” column_link_target=”_self” gradient_direction=”left_to_right” overlay_strength=”0.3″ width=”1/1″ tablet_width_inherit=”default” tablet_text_alignment=”default” phone_text_alignment=”default” bg_image_animation=”none” border_type=”simple” column_border_width=”none” column_border_style=”solid”][image_with_animation image_url=”16862″ animation=”Fade In” hover_animation=”none” alignment=”” border_radius=”none” box_shadow=”none” image_loading=”default” max_width=”100%” max_width_mobile=”default”][/vc_column][/vc_row][vc_row type=”in_container” full_screen_row_position=”middle” column_margin=”default” column_direction=”default” column_direction_tablet=”default” column_direction_phone=”default” scene_position=”center” text_color=”dark” text_align=”left” row_border_radius=”none” row_border_radius_applies=”bg” overlay_strength=”0.3″ gradient_direction=”left_to_right” shape_divider_position=”bottom” bg_image_animation=”none”][vc_column column_padding=”no-extra-padding” column_padding_tablet=”inherit” column_padding_phone=”inherit” column_padding_position=”all” column_element_spacing=”default” background_color_opacity=”1″ background_hover_color_opacity=”1″ column_shadow=”none” column_border_radius=”none” column_link_target=”_self” gradient_direction=”left_to_right” overlay_strength=”0.3″ width=”1/1″ tablet_width_inherit=”default” tablet_text_alignment=”default” phone_text_alignment=”default” bg_image_animation=”none” border_type=”simple” column_border_width=”none” column_border_style=”solid”][vc_column_text]Please join us for a Happy Hour in Princeton on Thu\, April 24 th at 6:00pm at the Brick\nHouse Tavern. The Happy Hour will be co-hosted by SIM NJ and SIM Ph to help us\nforge connections with our SIM Philly colleagues. Come on out and enjoy some\nrefreshments\, while making new friends and reconnecting with old friends. \nDate:  Thu\, April 24\, 2025!\nTime:  6:00 PM onwards\nLocation: Brick House Tavern\, 3569 US Hwy 1\, Princeton\, NJ\nNo Fee:  Mark Saturn of RSC will cover appetizers and drinks for the evening \nPlease RSVP to pcirullo@simnj.org if you can attend so we can plan appropriately.[/vc_column_text][/vc_column][/vc_row]
URL:https://njsim.org/event/sim-nj-networking-joint-happy-hour-in-princeton/
LOCATION:Brickhouse\, 3569 US Route 1\, Princeton\, NJ\, 08540\, United States
CATEGORIES:Member Event
ATTACH;FMTTYPE=image/png:https://njsim.org/wp-content/uploads/2025/03/SIM-NJ-Happy-Hour_April.png
END:VEVENT
END:VCALENDAR