BEGIN:VCALENDAR
VERSION:2.0
PRODID:-//NJ Society for Information Management - ECPv6.15.18//NONSGML v1.0//EN
CALSCALE:GREGORIAN
METHOD:PUBLISH
X-ORIGINAL-URL:https://njsim.org
X-WR-CALDESC:Events for NJ Society for Information Management
REFRESH-INTERVAL;VALUE=DURATION:PT1H
X-Robots-Tag:noindex
X-PUBLISHED-TTL:PT1H
BEGIN:VTIMEZONE
TZID:America/New_York
BEGIN:DAYLIGHT
TZOFFSETFROM:-0500
TZOFFSETTO:-0400
TZNAME:EDT
DTSTART:20180311T070000
END:DAYLIGHT
BEGIN:STANDARD
TZOFFSETFROM:-0400
TZOFFSETTO:-0500
TZNAME:EST
DTSTART:20181104T060000
END:STANDARD
BEGIN:DAYLIGHT
TZOFFSETFROM:-0500
TZOFFSETTO:-0400
TZNAME:EDT
DTSTART:20190310T070000
END:DAYLIGHT
BEGIN:STANDARD
TZOFFSETFROM:-0400
TZOFFSETTO:-0500
TZNAME:EST
DTSTART:20191103T060000
END:STANDARD
BEGIN:DAYLIGHT
TZOFFSETFROM:-0500
TZOFFSETTO:-0400
TZNAME:EDT
DTSTART:20200308T070000
END:DAYLIGHT
BEGIN:STANDARD
TZOFFSETFROM:-0400
TZOFFSETTO:-0500
TZNAME:EST
DTSTART:20201101T060000
END:STANDARD
END:VTIMEZONE
BEGIN:VEVENT
DTSTART;TZID=America/New_York:20190314T170000
DTEND;TZID=America/New_York:20190314T200000
DTSTAMP:20260424T233214
CREATED:20190314T181015Z
LAST-MODIFIED:20191031T150228Z
UID:378-1552582800-1552593600@njsim.org
SUMMARY:March Monthly Meeting 2019
DESCRIPTION:[vc_row type=”in_container” full_screen_row_position=”middle” scene_position=”center” text_color=”dark” text_align=”left” overlay_strength=”0.3″ shape_divider_position=”bottom” bg_image_animation=”none”][vc_column column_padding=”no-extra-padding” column_padding_position=”all” background_color_opacity=”1″ background_hover_color_opacity=”1″ column_link_target=”_self” column_shadow=”none” column_border_radius=”none” width=”1/1″ tablet_width_inherit=”default” tablet_text_alignment=”default” phone_text_alignment=”default” column_border_width=”none” column_border_style=”solid” bg_image_animation=”none”][nectar_gradient_text heading_tag=”h1″ color=”extra-color-gradient-2″ gradient_direction=”diagonal” text=”Special Offsite Meeting at the SHI Innovation Center”][vc_custom_heading text=”The Reality of Cloud Security” font_container=”tag:h2|text_align:left|color:%23005b94″ use_theme_fonts=”yes”][vc_row_inner column_margin=”default” text_align=”left”][vc_column_inner column_padding=”no-extra-padding” column_padding_position=”all” background_color_opacity=”1″ background_hover_color_opacity=”1″ column_shadow=”none” column_border_radius=”none” column_link_target=”_self” width=”1/1″ tablet_width_inherit=”default” column_border_width=”none” column_border_style=”solid” bg_image_animation=”none”][vc_column_text]The March meeting will hosted by SHI at their Innovation Center in Somerset\, NJ. \nWe will tour the Innovation Center and also participate in a presentation on the continuously changing topic of cloud security. The presentation will reference IaaS\, PaaS as well as SaaS models and considerations and responsibilities for each. The speaker will then provide input on key IaaS players capabilities\, what to expect in terms of capability and integration. Additionally SHI will discuss good practices and key areas of focus for security teams as they architect cloud services. Finally a hybrid model and it’s complexities will be discussed with overlapping security considerations for good practices.[/vc_column_text][/vc_column_inner][/vc_row_inner][/vc_column][/vc_row][vc_row type=”in_container” full_screen_row_position=”middle” scene_position=”center” text_color=”dark” text_align=”left” overlay_strength=”0.3″ shape_divider_position=”bottom” bg_image_animation=”none”][vc_column column_padding=”no-extra-padding” column_padding_position=”all” background_color_opacity=”1″ background_hover_color_opacity=”1″ column_link_target=”_self” column_shadow=”none” column_border_radius=”none” width=”1/1″ tablet_width_inherit=”default” tablet_text_alignment=”default” phone_text_alignment=”default” column_border_width=”none” column_border_style=”solid” bg_image_animation=”none”][vc_custom_heading text=”Time/Schedule” font_container=”tag:h2|text_align:left|color:%23005b94″ use_theme_fonts=”yes”][vc_column_text]5:00 – 5:30P – Refreshments and Networking\n5:30 – 6:30P – Cloud Security Presentation\n6:30 – 8:00P – Innovation Center Tours\, Refreshments\, and Networking[/vc_column_text][/vc_column][/vc_row][vc_row type=”in_container” full_screen_row_position=”middle” scene_position=”center” text_color=”dark” text_align=”left” overlay_strength=”0.3″ shape_divider_position=”bottom” bg_image_animation=”none”][vc_column column_padding=”no-extra-padding” column_padding_position=”all” background_color_opacity=”1″ background_hover_color_opacity=”1″ column_link_target=”_self” column_shadow=”none” column_border_radius=”none” width=”1/1″ tablet_width_inherit=”default” tablet_text_alignment=”default” phone_text_alignment=”default” column_border_width=”none” column_border_style=”solid” bg_image_animation=”none”][vc_custom_heading text=”Cost” font_container=”tag:h2|text_align:left|color:%23005b94″ use_theme_fonts=”yes”][vc_column_text]SIM NJ Members $70.00\, non-member guests $100.00. Non-member guests must be accompanied by a member. \nIf you have questions about the guest policies please contact one of the Membership VP’s at membership@njsim.org[/vc_column_text][/vc_column][/vc_row]
URL:https://njsim.org/event/march-monthly-meeting-2019/
LOCATION:SHI – Innovation Center\, 300 Davidson Ave\, Somerset\, NJ\, 08873\, United States
CATEGORIES:Monthly Meeting,Offsite Meeting
END:VEVENT
END:VCALENDAR